BEGIN:VCALENDAR
VERSION:2.0
PRODID:-//ChamberMaster//Event Calendar 2.0//EN
METHOD:PUBLISH
X-PUBLISHED-TTL:P3D
REFRESH-INTERVAL:P3D
CALSCALE:GREGORIAN
BEGIN:VEVENT
DTSTART:20161001T220000Z
DTEND:20161001T220000Z
X-MICROSOFT-CDO-ALLDAYEVENT:FALSE
SUMMARY:Harvest Wagon Ride
DESCRIPTION:Bring your blanket and enjoy an evening horse and wagon ride this fall at Living History Farms! Guests meet at the Murray Conference Center to board an open-air wagon pulled by Percheron draft horses or draft mules. Take a ride through the fields and country roads of Living History Farms with autumn in the air. After your ride\, join other guests for light refreshments and relaxation while watching day change to night at Living History Farms! Wagon Rides run September 3\, 10\, 17\, 24 at 5pm or 7pm and October 1\, 15 at 5pm.
X-ALT-DESC;FMTTYPE=text/html:Bring your blanket and enjoy an evening horse and wagon ride this fall at Living History Farms! Guests meet at the Murray Conference Center to board an open-air wagon pulled by Percheron draft horses or draft mules. Take a ride through the fields and country roads of Living History Farms with autumn in the air. After your ride\, join other guests for light refreshments and relaxation while watching day change to night at Living History Farms! Wagon Rides run September 3\, 10\, 17\, 24 at 5pm or 7pm and October 1\, 15 at 5pm.
LOCATION:Living History Farms 11121 Hickman Road Urbandale\, IA 50322
UID:e.1185.4707
SEQUENCE:3
DTSTAMP:20260421T034532Z
URL:http://getaquote-mobile.uniquelyurbandale.com/events/details/harvest-wagon-ride-10-01-2016-4707
END:VEVENT

END:VCALENDAR
