BEGIN:VCALENDAR
VERSION:2.0
PRODID:-//ChamberMaster//Event Calendar 2.0//EN
METHOD:PUBLISH
X-PUBLISHED-TTL:P3D
REFRESH-INTERVAL:P3D
CALSCALE:GREGORIAN
BEGIN:VEVENT
DTSTART:20170725T223000Z
DTEND:20170726T000000Z
X-MICROSOFT-CDO-ALLDAYEVENT:FALSE
SUMMARY:Happy Birthday Hotel Renovo!
DESCRIPTION:Happy Birthday Hotel Renovo! It's Hotel Renovo's birthday so let's celebrate! Join us for hot fudge sundaes\, signature drinks and punch! Stay tuned for other surprises that you don't want to miss out on!
X-ALT-DESC;FMTTYPE=text/html:Happy Birthday Hotel Renovo! It&rsquo\;s Hotel Renovo&rsquo\;s birthday so let&rsquo\;s celebrate! Join us for hot fudge sundaes\, signature drinks and punch! Stay tuned for other surprises that you don&rsquo\;t want to miss out on!
LOCATION:Hotel Renovo 11167 Hickman Rd
UID:e.1185.6591
SEQUENCE:3
DTSTAMP:20260421T151933Z
URL:http://getaquote-mobile.uniquelyurbandale.com/events/details/happy-birthday-hotel-renovo-6591
END:VEVENT

END:VCALENDAR
