BEGIN:VCALENDAR
VERSION:2.0
PRODID:-//ChamberMaster//Event Calendar 2.0//EN
METHOD:PUBLISH
X-PUBLISHED-TTL:P3D
REFRESH-INTERVAL:P3D
CALSCALE:GREGORIAN
BEGIN:VEVENT
DTSTART:20190722T223000Z
DTEND:20190723T010000Z
X-MICROSOFT-CDO-ALLDAYEVENT:FALSE
SUMMARY:Guess Who's Coming to Dinner: Taste of Puerto Rico
DESCRIPTION:WEPA! Join CultureALL and our friends at Puerto Rico Restaurant in Windsor Heights for a celebration of Puerto Rican culture and cuisine where you can: \n\n	Meet new people as you enjoy traditional "Criolla" style dishes that blend flavors from the Caribbean\, Africa and Europe.\n	Learn about the culture\, history and customs of Puerto Rico with a local speaker\, author\, storyteller\, and CultureALL Ambassador Christina Fern ndez-Morrow. \n	Bob your head\, shake your shoulders\, and dance to the rhythms of salsa\, plena\, and bomba with members of Central Iowa's Puerto Rican community.\n	 Listen to traditional songs\, and explore the instruments that set these sounds apart and have influenced several genres of music.\n\n \n\nThis is the first Guess Who's Coming to Dinner gathering of the new season. Tickets must be purchased in advance. Proceeds benefit CultureALL education programs.\n\n \n\nSEATING IS LIMITED   RESERVE YOUR PLACE TODAY\n\n\n\nThank you to our Guess Who's Coming to Dinner Sponsors: Central College\, Des Moines Area Community College\, Federal Home Loan Bank of Des Moines\, NCMIC/Professional Solutions\, and Wells Fargo.
X-ALT-DESC;FMTTYPE=text/html:<span style="font-family:arial\,sans-serif"><span style="font-size:10pt">WEPA! Join CultureALL and our friends at Puerto Rico Restaurant in Windsor Heights for a celebration of Puerto Rican culture and cuisine where you can:&nbsp\;</span></span>\n<ul>\n	<li><span style="font-family:arial\,sans-serif"><span style="font-size:10pt">Meet new people as you enjoy traditional &quot\;Criolla&quot\; style dishes that blend flavors from the Caribbean\, Africa and Europe.</span></span></li>\n	<li><span style="font-family:arial\,sans-serif"><span style="font-size:10pt">Learn about the culture\, history and customs of Puerto Rico with a local speaker\, author\, storyteller\, and CultureALL Ambassador Christina Fern&aacute\;ndez-Morrow.&nbsp\;</span></span></li>\n	<li>B<span style="font-family:arial\,sans-serif\; font-size:10pt">ob your head\, shake your shoulders\, and dance to the rhythms of salsa\, plena\, and bomba with members of Central Iowa&rsquo\;s Puerto Rican community.</span></li>\n	<li>&nbsp\;<span style="font-family:arial\,sans-serif"><span style="font-size:10pt">Listen to traditional songs\, and explore the instruments that set these sounds apart and have influenced several genres of music.</span></span></li>\n</ul>\n&nbsp\;<br />\n<span style="font-family:arial\,sans-serif"><span style="font-size:10pt">This is the first Guess Who&rsquo\;s Coming to Dinner gathering of the new season. Tickets must be purchased in advance. Proceeds benefit CultureALL education programs.</span></span><br />\n&nbsp\;<br />\n<span style="font-family:arial\,sans-serif"><span style="font-size:10pt">SEATING IS LIMITED &ndash\; RESERVE YOUR PLACE TODAY</span></span><br />\n<br />\n<span style="font-family:arial\,sans-serif"><span style="font-size:10pt">Thank you to our Guess Who&rsquo\;s Coming to Dinner Sponsors: Central College\, Des Moines Area Community College\, Federal Home Loan Bank of Des Moines\, NCMIC/Professional Solutions\, and Wells Fargo.</span></span>
LOCATION:Puerto Rico Restaurant 6611 University Avenue Windsor Heights\, IA 50324
UID:e.1185.9997
SEQUENCE:3
DTSTAMP:20260423T043038Z
URL:http://getaquote-mobile.uniquelyurbandale.com/events/details/guess-who-s-coming-to-dinner-taste-of-puerto-rico-9997
END:VEVENT

END:VCALENDAR
