BEGIN:VCALENDAR
VERSION:2.0
PRODID:-//ChamberMaster//Event Calendar 2.0//EN
METHOD:PUBLISH
X-PUBLISHED-TTL:P3D
REFRESH-INTERVAL:P3D
CALSCALE:GREGORIAN
BEGIN:VEVENT
DTSTART:20190916T223000Z
DTEND:20190917T010000Z
X-MICROSOFT-CDO-ALLDAYEVENT:FALSE
SUMMARY:Guess Who's Coming to Dinner: Taste of Peru
DESCRIPTION:Come celebrate the culture and cuisine of this lush and diverse South American paradise with an evening where you can\n\n	Enjoy an authentic Peruvian meal that includes an appetizer\, dessert\, and your choice of select entr e\n	Sample Chicha Morada   a traditional (non-alcoholic) beverage made from purple corn\n	Learn about the culture and cuisine of Peru in a conversation with Panka co-owner Mariela Maya\n	Enjoy traditional music from CultureALL Ambassador Cucho Madero.\n\n \n\nA cash bar will also be available.\n\n \n\nThis is the second Guess Who's Coming to Dinner gathering of FY2020 season. Tickets must be purchased in advance. Proceeds benefit CultureALL education programs.\n\n \nSEATING IS LIMITED   RESERVE YOUR PLACE TODAY!\n\n\nThank You to our Guess Who's Coming to Dinner Sponsors: Central College\, Des Moines Area Community College\, EquiTrust\, Federal Home Loan Bank of Des Moines\, NCMIC/Professional Solutions\, and Wells Fargo.
X-ALT-DESC;FMTTYPE=text/html:<span style="font-size:14px">Come celebrate the culture and cuisine of this lush and diverse South American paradise with an evening where you can</span>\n<ul>\n	<li><span style="font-size:14px">Enjoy an <strong>authentic Peruvian meal t</strong>hat includes an appetizer\, dessert\, and your choice of select entr&eacute\;e</span></li>\n	<li><span style="font-size:14px">Sample <strong>Chicha Morada</strong> &ndash\; a traditional (non-alcoholic) beverage made from purple corn</span></li>\n	<li><span style="font-size:14px">Learn about the <strong>culture and cuisine of Peru</strong> in a conversation with Panka co-owner Mariela Maya</span></li>\n	<li><span style="font-size:14px">Enjoy <strong>traditional music </strong>from CultureALL Ambassador Cucho Madero.</span></li>\n</ul>\n<span style="font-size:14px">&nbsp\;<br />\nA cash bar will also be available.<br />\n&nbsp\;<br />\n<span style="color:#1d2129"><span style="font-family:arial\,sans-serif">This is the second <strong>Guess Who&rsquo\;s Coming to Dinne</strong>r gathering of FY2020 season. Tickets must be purchased in advance. <strong>Proceeds benefit CultureALL education programs.</strong></span></span></span><br />\n&nbsp\;\n<div style="text-align: center\;"><span style="font-size:14px"><span style="color:#1d2129"><span style="font-family:arial\,sans-serif"><strong>SEATING IS LIMITED &ndash\; RESERVE YOUR PLACE TODAY!</strong></span></span></span></div>\n<br />\n<span style="font-size:14px"><span style="color:#1d2129"><span style="font-family:arial\,sans-serif"><strong>Thank You to our Guess Who&rsquo\;s Coming to Dinner Sponsors: </strong>Central College\, Des Moines Area Community College\, EquiTrust\, Federal Home Loan Bank of Des Moines\, NCMIC/Professional Solutions\, and Wells Fargo.</span></span></span>
LOCATION:Panka Peruvian Restaurant 2708 Ingersoll Avenue\, Suite 200 Des Moines\, IA 50312
UID:e.1185.10276
SEQUENCE:3
DTSTAMP:20260423T075420Z
URL:http://getaquote-mobile.uniquelyurbandale.com/events/details/guess-who-s-coming-to-dinner-taste-of-peru-10276
END:VEVENT

END:VCALENDAR
