BEGIN:VCALENDAR
VERSION:2.0
PRODID:-//ChamberMaster//Event Calendar 2.0//EN
METHOD:PUBLISH
X-PUBLISHED-TTL:P3D
REFRESH-INTERVAL:P3D
CALSCALE:GREGORIAN
BEGIN:VEVENT
DTSTART;VALUE=DATE:20170715
DTEND;VALUE=DATE:20170716
TRANSP:TRANSPARENT
X-MICROSOFT-CDO-ALLDAYEVENT:TRUE
SUMMARY:"Growing Better Marriages" Couples Workshop
DESCRIPTION:"Growing Better Marriages\," gives dating and engaged couples new insight into their strength and growth areas\, and married couples restored passion for their marriage with new peace and commitment. Trained professionals facilitate new skills\, a world-class PREPARE-ENRICH assessment\, and relationship coaching.
X-ALT-DESC;FMTTYPE=text/html:&ldquo\;Growing Better Marriages\,&rdquo\; gives dating and engaged couples new insight into their strength and growth areas\, and married couples restored passion for their marriage with new peace and commitment. Trained professionals facilitate new skills\, a world-class PREPARE-ENRICH assessment\, and relationship coaching.
LOCATION:3219 SW 9th Park Avenue Christian Church - Eric Gissell Youth Center Des Moines\, IA 50315
UID:e.1185.6555
SEQUENCE:3
DTSTAMP:20260421T145224Z
URL:http://getaquote-mobile.uniquelyurbandale.com/events/details/growing-better-marriages-couples-workshop-07-15-2017-6555
END:VEVENT

END:VCALENDAR
