BEGIN:VCALENDAR
VERSION:2.0
PRODID:-//ChamberMaster//Event Calendar 2.0//EN
METHOD:PUBLISH
X-PUBLISHED-TTL:P3D
REFRESH-INTERVAL:P3D
CALSCALE:GREGORIAN
BEGIN:VEVENT
DTSTART:20151120T190000Z
DTEND:20151120T200000Z
X-MICROSOFT-CDO-ALLDAYEVENT:FALSE
SUMMARY:Groundbreaking event for Deerfield Retirement Community
DESCRIPTION:Please join us for a groundbreaking event for Deerfield Retirement Community\, celebrating the addition of a multipurpose center as well as a renovation project.  The ceremony will begin at 1:00 pm on their property located at 13731 Hickman Road in Urbandale on Friday\, November 20th.
X-ALT-DESC;FMTTYPE=text/html:Please join us for a groundbreaking event for Deerfield Retirement Community\,&nbsp\;celebrating the addition of a multipurpose center as well as a renovation project. &nbsp\;The ceremony will begin at 1:00 pm on their property located at 13731 Hickman Road in Urbandale on Friday\, November 20th.&nbsp\;
LOCATION:13731 Hickman Road in Urbandale
UID:e.1185.4264
SEQUENCE:3
DTSTAMP:20260420T100832Z
URL:http://getaquote-mobile.uniquelyurbandale.com/events/details/groundbreaking-event-for-deerfield-retirement-community-11-20-2015-4264
END:VEVENT

END:VCALENDAR
