BEGIN:VCALENDAR
VERSION:2.0
PRODID:-//ChamberMaster//Event Calendar 2.0//EN
METHOD:PUBLISH
X-PUBLISHED-TTL:P3D
REFRESH-INTERVAL:P3D
CALSCALE:GREGORIAN
BEGIN:VEVENT
DTSTART:20210825T160000Z
DTEND:20210825T180000Z
X-MICROSOFT-CDO-ALLDAYEVENT:FALSE
SUMMARY:GROUND BREAKING EVENT - Glen Meadows Retirement Community
DESCRIPTION:Groundbreaking to Luxurious Living\nGlen Meadows Retirement Community invites you to celebrate the groundbreaking of our new resort-style\, all-inclusive independent living community. Designed exclusively for adults 55 and over\, we offer the comforts and conveniences of modern living without the hassle of upkeep. There will be a short program followed by lunch. Our staff will answer questions regarding the new community and share local business partnering opportunities.
X-ALT-DESC;FMTTYPE=text/html:<h3><strong>Groundbreaking to Luxurious Living</strong></h3>\nGlen Meadows Retirement Community invites you to celebrate the groundbreaking of our new resort-style\, all-inclusive independent living community. Designed exclusively for adults 55 and over\, we offer the comforts and conveniences of modern living without the hassle of upkeep. There will be a short program followed by lunch. Our staff will answer questions regarding the new community and share local business partnering opportunities.
LOCATION:Glen Oaks Country Club (Churchill Room) 1401 Glen Oaks Drive West Des Moines\, IA 50266
UID:e.1185.11466
SEQUENCE:3
DTSTAMP:20260424T171923Z
URL:http://getaquote-mobile.uniquelyurbandale.com/events/details/ground-breaking-event-glen-meadows-retirement-community-11466
END:VEVENT

END:VCALENDAR
