BEGIN:VCALENDAR
VERSION:2.0
PRODID:-//ChamberMaster//Event Calendar 2.0//EN
METHOD:PUBLISH
X-PUBLISHED-TTL:P3D
REFRESH-INTERVAL:P3D
CALSCALE:GREGORIAN
BEGIN:VEVENT
DTSTART:20160928T233000Z
DTEND:20160929T010000Z
X-MICROSOFT-CDO-ALLDAYEVENT:FALSE
SUMMARY:Grocery Shopping for a Better World
DESCRIPTION:Mary Krisco\, ISU Exension and Outreach Specialist in nutrition and wellness will cover common questions such as what does it mean when something is labeled 'natural' or 'organic'? What about 'fair trade' or 'non-GMO'? Does it matter if it's local or the packaging is recycled? Learn how your grocery shopping habits affect the world we live in!
X-ALT-DESC;FMTTYPE=text/html:Mary Krisco\, ISU Exension and Outreach Specialist in nutrition and wellness will cover common questions such as what does it mean when something is labeled &#39\;natural&#39\; or &#39\;organic&#39\;? What about &#39\;fair trade&#39\; or &#39\;non-GMO&#39\;? Does it matter if it&#39\;s local or the packaging is recycled? Learn how your grocery shopping habits affect the world we live in!
LOCATION:Urbandale High School
UID:e.1185.4901
SEQUENCE:3
DTSTAMP:20260421T003412Z
URL:http://getaquote-mobile.uniquelyurbandale.com/events/details/grocery-shopping-for-a-better-world-4901
END:VEVENT

END:VCALENDAR
