BEGIN:VCALENDAR
VERSION:2.0
PRODID:-//ChamberMaster//Event Calendar 2.0//EN
METHOD:PUBLISH
X-PUBLISHED-TTL:P3D
REFRESH-INTERVAL:P3D
CALSCALE:GREGORIAN
BEGIN:VEVENT
DTSTART:20150219T133000Z
DTEND:20150219T150000Z
X-MICROSOFT-CDO-ALLDAYEVENT:FALSE
SUMMARY:Greater Des Moines Partnership Day on the Hill
DESCRIPTION:Join business and community leaders from Greater Des Moines at the Iowa State Capitol to have conversations with your legislators about issues important to Central Iowa. The cost is $15 per person\, with breakfast provided. Participation is limited to Partnership investors and Regional Affiliate members only.\n\n\n\nLocation: State Capitol\, Senate Room 116\, Des Moines\, IA 50319\n\n\n\nTime: Thursday\, February 19\, 2015\,7:30 - 9:00 a.m.\n\n\n\nRegistration cost (includes breakfast): $15\n\n\n\nRegister at https://www.desmoinesmetro.com/index.cfm?nodeID=81176&audienceID=1
X-ALT-DESC;FMTTYPE=text/html:Join business and community leaders from Greater Des Moines at the Iowa State Capitol to have conversations with your legislators about issues important to Central Iowa. The cost is $15 per person\, with breakfast provided. Participation is limited to Partnership investors and Regional Affiliate members only.<br>\n<br>\nLocation: State Capitol\, Senate Room 116\, Des Moines\, IA 50319<br>\n<br>\nTime: Thursday\, February 19\, 2015\,7:30 - 9:00 a.m.<br>\n<br>\nRegistration cost (includes breakfast): $15<br>\n<br>\nRegister at&nbsp\;https://www.desmoinesmetro.com/index.cfm?nodeID=81176&amp\;audienceID=1<br>\n&nbsp\;
LOCATION:
UID:e.1185.4175
SEQUENCE:3
DTSTAMP:20260419T211443Z
URL:http://getaquote-mobile.uniquelyurbandale.com/events/details/greater-des-moines-partnership-day-on-the-hill-02-19-2015-4175
END:VEVENT

END:VCALENDAR
