BEGIN:VCALENDAR
VERSION:2.0
PRODID:-//ChamberMaster//Event Calendar 2.0//EN
METHOD:PUBLISH
X-PUBLISHED-TTL:P3D
REFRESH-INTERVAL:P3D
CALSCALE:GREGORIAN
BEGIN:VEVENT
DTSTART:20140213T133000Z
DTEND:20140213T150000Z
X-MICROSOFT-CDO-ALLDAYEVENT:FALSE
SUMMARY:Greater Des Moines Partnership Day on the Hill
DESCRIPTION:Join the Partnership and its Affiliate Chambers for their Annual Day on the Hill event. Get an update on the legislative session as well as an opportunity to network with state legislators. \n\n	Location: State Capitol\, Senate Room 116\, Des Moines\, IA 50319\n\n	Time: Thursday\, February 13\, 2014 7:30 AM - 9:00 AM\n\n	Registration cost (includes breakfast): $15\n\n	\n\n	Registration:\n\n	http://www.desmoinesmetro.com/en/calendar/2014_partnership_day_on_the_hill/
X-ALT-DESC;FMTTYPE=text/html:<p style="color: rgb(119\, 119\, 119)\; font-size: 14px\; line-height: 18px\; margin: 0px 0px 18px\; font-family: RobotoCondensed\, Arial\, sans-serif\; background-color: rgb(254\, 254\, 254)\;">\n	<span style="font-size:12px\;"><span style="font-family:arial\;">J<span style="color:#000000\;">oin the Partnership and its Affiliate Chambers for their Annual Day on the Hill event. Get an update on the legislative session as well as an opportunity to network with state legislators.&nbsp\;</span></span></span></p>\n<p style="color: rgb(119\, 119\, 119)\; font-size: 14px\; line-height: 18px\; margin: 0px 0px 18px\; font-family: RobotoCondensed\, Arial\, sans-serif\; background-color: rgb(254\, 254\, 254)\;">\n	<span style="color:#000000\;"><span style="font-size:12px\;"><span style="font-family:arial\;">Location: State Capitol\, Senate Room 116\, Des Moines\, IA 50319</span></span></span></p>\n<p style="color: rgb(119\, 119\, 119)\; font-size: 14px\; line-height: 18px\; margin: 0px 0px 18px\; font-family: RobotoCondensed\, Arial\, sans-serif\; background-color: rgb(254\, 254\, 254)\;">\n	<span style="color:#000000\;"><span style="font-size:12px\;"><span style="font-family:arial\;">Time: Thursday\, February 13\, 2014 7:30 AM - 9:00 AM</span></span></span></p>\n<p style="color: rgb(119\, 119\, 119)\; font-size: 14px\; line-height: 18px\; margin: 0px 0px 18px\; font-family: RobotoCondensed\, Arial\, sans-serif\; background-color: rgb(254\, 254\, 254)\;">\n	<span style="color:#000000\;"><span style="font-size:12px\;"><span style="font-family:arial\;">Registration cost (includes breakfast): $15<br />\n	<br />\n	Registration:</span></span><br />\n	http://www.desmoinesmetro.com/en/calendar/2014_partnership_day_on_the_hill/</span></p>\n
LOCATION:State Capitol\, Senate Room 116\, Des Moines\, IA 50319
UID:e.1185.3659
SEQUENCE:3
DTSTAMP:20260419T211356Z
URL:http://getaquote-mobile.uniquelyurbandale.com/events/details/greater-des-moines-partnership-day-on-the-hill-02-13-2014-3659
END:VEVENT

END:VCALENDAR
