BEGIN:VCALENDAR
VERSION:2.0
PRODID:-//ChamberMaster//Event Calendar 2.0//EN
METHOD:PUBLISH
X-PUBLISHED-TTL:P3D
REFRESH-INTERVAL:P3D
CALSCALE:GREGORIAN
BEGIN:VEVENT
DTSTART:20160807T210000Z
DTEND:20160807T230000Z
X-MICROSOFT-CDO-ALLDAYEVENT:FALSE
SUMMARY:Granite City's Summer Ale "Peel Off" Tapping Event
DESCRIPTION:Join us for the annual tapping of our Summer White Ale\, the Peel Off! There's no better way to wrap up summer than sipping on our seasonal brew and soaking up the sun on the patio. As usual\, we'll be celebrating with a beach/summer themed event complete with a water pong tournament\, bags and MARIO KART! This family-friendly event will feature 1/2 price apps\, our new Chef Features and food/beer/prize giveaways. You won't want to miss this one\, see you there!
X-ALT-DESC;FMTTYPE=text/html:Join us for the annual tapping of our Summer White Ale\, the Peel Off! There&#39\;s no better way to wrap up summer than sipping on our seasonal brew and soaking up the sun on the patio. As usual\, we&#39\;ll be celebrating with a beach/summer themed event complete with a water pong tournament\, bags and MARIO KART! This family-friendly event will feature 1/2 price apps\, our new Chef Features and food/beer/prize giveaways. You won&#39\;t want to miss this one\, see you there!
LOCATION:
UID:e.1185.4872
SEQUENCE:3
DTSTAMP:20260420T225936Z
URL:http://getaquote-mobile.uniquelyurbandale.com/events/details/granite-city-s-summer-ale-peel-off-tapping-event-08-07-2016-4872
END:VEVENT

END:VCALENDAR
