BEGIN:VCALENDAR
VERSION:2.0
PRODID:-//ChamberMaster//Event Calendar 2.0//EN
METHOD:PUBLISH
X-PUBLISHED-TTL:P3D
REFRESH-INTERVAL:P3D
CALSCALE:GREGORIAN
BEGIN:VEVENT
DTSTART:20161002T210000Z
DTEND:20161002T230000Z
X-MICROSOFT-CDO-ALLDAYEVENT:FALSE
SUMMARY:Granite City's Pumpkin Lager Tapping Event!
DESCRIPTION:Join us for our Pumpkin Lager tapping this Sunday! We're hopping on the pumpkin craze bandwagon this year and it's sure to be a hit. We'll be hosting the usual-games and prize give-aways in honor of Fall officially being here. Hope to see you there!
X-ALT-DESC;FMTTYPE=text/html:Join us for our Pumpkin Lager tapping this Sunday! We&#39\;re hopping on the pumpkin craze bandwagon this year and it&#39\;s sure to be a hit. We&#39\;ll be hosting the usual-games and prize give-aways in honor of Fall officially being here. Hope to see you there!
LOCATION:
UID:e.1185.4913
SEQUENCE:3
DTSTAMP:20260421T022139Z
URL:http://getaquote-mobile.uniquelyurbandale.com/events/details/granite-city-s-pumpkin-lager-tapping-event-4913
END:VEVENT

END:VCALENDAR
