BEGIN:VCALENDAR
VERSION:2.0
PRODID:-//ChamberMaster//Event Calendar 2.0//EN
METHOD:PUBLISH
X-PUBLISHED-TTL:P3D
REFRESH-INTERVAL:P3D
CALSCALE:GREGORIAN
BEGIN:VEVENT
DTSTART:20160605T210000Z
DTEND:20160605T230000Z
X-MICROSOFT-CDO-ALLDAYEVENT:FALSE
SUMMARY:Granite City's Gold Fever Tapping Event
DESCRIPTION:Kick off June the right way\, by joining us for our annual tapping of Gold Fever\, our Belgian Golden Strong Ale! This year's tapping event will host a "Golden Globe" theme\, so think all things GLAMOUR! We will be featuring a photo booth with props\,  games and prizes\, awards\, and BEER of course! Both guests and staff are encouraged to "dress to the nines" and "strut your stuff" for this not-so-exclusive event. Hope to see you all there!
X-ALT-DESC;FMTTYPE=text/html:Kick off June the right way\, by joining us for our annual tapping of Gold Fever\, our Belgian Golden Strong Ale! This year&#39\;s tapping event will host a &quot\;Golden Globe&quot\; theme\, so think all things GLAMOUR! We will be featuring a photo booth with props\, &nbsp\;games and prizes\, awards\, and BEER of course! Both guests and staff are encouraged to &quot\;dress to the nines&quot\; and &quot\;strut your stuff&quot\; for this not-so-exclusive event. Hope to see you all there!
LOCATION:
UID:e.1185.4814
SEQUENCE:3
DTSTAMP:20260420T195842Z
URL:http://getaquote-mobile.uniquelyurbandale.com/events/details/granite-city-s-gold-fever-tapping-event-06-05-2016-4814
END:VEVENT

END:VCALENDAR
