BEGIN:VCALENDAR
VERSION:2.0
PRODID:-//ChamberMaster//Event Calendar 2.0//EN
METHOD:PUBLISH
X-PUBLISHED-TTL:P3D
REFRESH-INTERVAL:P3D
CALSCALE:GREGORIAN
BEGIN:VEVENT
DTSTART:20160818T210000Z
DTEND:20160819T000000Z
X-MICROSOFT-CDO-ALLDAYEVENT:FALSE
SUMMARY:Granite City's End of Summer BASH!
DESCRIPTION:Join us for Granite City's first ever Reunion Party! We figured there was no better time than now to show our appreciation for our staff (both past and present)\, our fiercely loyal regulars\, and our guests who have supported us over the years. This is by no means an exclusive event so if you love Granite City\, come on in! We'll be enjoying some throwback Chef Features and Signature Drinks...did someone say chalupa?! Featuring the acoustic musical stylings of Sean Hannah.
X-ALT-DESC;FMTTYPE=text/html:<span style="color:rgb(75\, 79\, 86)\; font-family:helvetica\,arial\,sans-serif\; font-size:14px">Join us for Granite City&#39\;s first ever Reunion Party! We figured there was no better time than now to show our appreciation for our staff (both past and present)\, our fiercely loyal regulars\, and our guests who have supported us over the years. This is by no means an exclusive event so if you love Granite City\, come on in! We&#39\;ll be enjoying some throwback Chef Features and Signature Drinks...did someone say chalupa?! Featuring the acoustic musical stylings of Sean Hannah.</span><br />\n<br />\n&nbsp\;
LOCATION:
UID:e.1185.4878
SEQUENCE:3
DTSTAMP:20260420T225937Z
URL:http://getaquote-mobile.uniquelyurbandale.com/events/details/granite-city-s-end-of-summer-bash-08-18-2016-4878
END:VEVENT

END:VCALENDAR
