BEGIN:VCALENDAR
VERSION:2.0
PRODID:-//ChamberMaster//Event Calendar 2.0//EN
METHOD:PUBLISH
X-PUBLISHED-TTL:P3D
REFRESH-INTERVAL:P3D
CALSCALE:GREGORIAN
BEGIN:VEVENT
DTSTART:20210802T163000Z
DTEND:20210802T173000Z
X-MICROSOFT-CDO-ALLDAYEVENT:FALSE
SUMMARY:Grand Opening Fresh Fit Meals
DESCRIPTION:RED CARPET EVENT\nGrand Opening - 1 Year Anniversary\n\nSince 2020 prohibited us from celebrating this NEW BUSINESS\, we are going to take advantage of 2021! \n\nWe hope that you will join us!!!
X-ALT-DESC;FMTTYPE=text/html:<h2 style="font-style:italic\;"><span style="font-family:tahoma\;"><span style="color:#FF0000\;"><strong>RED CARPET EVENT</strong></span></span></h2>\n<strong>Grand Opening - 1 Year Anniversary</strong><br />\nSince 2020 prohibited us from celebrating this <strong>NEW BUSINESS</strong>\, we are going to take advantage of 2021!&nbsp\;<br />\n<span style="font-size:14px\;"><strong>We hope that you will join us!!!</strong></span><br />\n&nbsp\;
LOCATION:11881 Hickman Road #300 Urbandale
UID:e.1185.11317
SEQUENCE:3
DTSTAMP:20260424T171907Z
URL:http://getaquote-mobile.uniquelyurbandale.com/events/details/grand-opening-fresh-fit-meals-11317
END:VEVENT

END:VCALENDAR
