BEGIN:VCALENDAR
VERSION:2.0
PRODID:-//ChamberMaster//Event Calendar 2.0//EN
METHOD:PUBLISH
X-PUBLISHED-TTL:P3D
REFRESH-INTERVAL:P3D
CALSCALE:GREGORIAN
BEGIN:VEVENT
DTSTART:20191004T213000Z
DTEND:20191004T223000Z
X-MICROSOFT-CDO-ALLDAYEVENT:FALSE
SUMMARY:Grand Opening - Des Moines Learning Center
DESCRIPTION:GRAND OPENING\n\nDes Moines Learning Center
X-ALT-DESC;FMTTYPE=text/html:GRAND OPENING<br />\nDes Moines Learning Center&nbsp\;&nbsp\;&nbsp\;&nbsp\;
LOCATION:12871 University Avenue\, Suite 110 Clive\, Iowa 50325
UID:e.1185.10296
SEQUENCE:3
DTSTAMP:20260423T114434Z
URL:http://getaquote-mobile.uniquelyurbandale.com/events/details/grand-opening-des-moines-learning-center-10296
END:VEVENT

END:VCALENDAR
