BEGIN:VCALENDAR
VERSION:2.0
PRODID:-//ChamberMaster//Event Calendar 2.0//EN
METHOD:PUBLISH
X-PUBLISHED-TTL:P3D
REFRESH-INTERVAL:P3D
CALSCALE:GREGORIAN
BEGIN:VEVENT
DTSTART:20191021T161500Z
DTEND:20191021T170000Z
X-MICROSOFT-CDO-ALLDAYEVENT:FALSE
SUMMARY:Grand Opening - Community Hand Up
DESCRIPTION:GRAND Opening\n\nUnited Way\n\nCommunity Hand Up
X-ALT-DESC;FMTTYPE=text/html:GRAND Opening<br />\nUnited Way<br />\nCommunity Hand Up<br />\n&nbsp\;
LOCATION:2830 100th Street Urbandale Chamber of Commerce RODAN Board Room Urbandale
UID:e.1185.10299
SEQUENCE:3
DTSTAMP:20260423T102405Z
URL:http://getaquote-mobile.uniquelyurbandale.com/events/details/grand-opening-community-hand-up-10299
END:VEVENT

END:VCALENDAR
