BEGIN:VCALENDAR
VERSION:2.0
PRODID:-//ChamberMaster//Event Calendar 2.0//EN
METHOD:PUBLISH
X-PUBLISHED-TTL:P3D
REFRESH-INTERVAL:P3D
CALSCALE:GREGORIAN
BEGIN:VEVENT
DTSTART:20160806T140000Z
DTEND:20160806T210000Z
X-MICROSOFT-CDO-ALLDAYEVENT:FALSE
SUMMARY:Grain Harvest
DESCRIPTION:Experience the many methods used to harvest oats and wheat from 1850 to the present and help bring in the harvest that will feed our animals throughout the winter. From hand power to horsepower\, witness it all as you hear the smash of the flail and the roar of the steam-powered thresher. Demonstrations will be weather dependent. In the town of Walnut Hill from 11-4\, enjoy children?s crafts\, free popcorn and lemonade\, and a 1:30pm historic baseball game.
X-ALT-DESC;FMTTYPE=text/html:Experience the many methods used to harvest oats and wheat from 1850 to the present and help bring in the harvest that will feed our animals throughout the winter. From hand power to horsepower\, witness it all as you hear the smash of the flail and the roar of the steam-powered thresher. Demonstrations will be weather dependent. In the town of Walnut Hill from 11-4\, enjoy children?s crafts\, free popcorn and lemonade\, and a 1:30pm historic baseball game.
LOCATION:Living History Farms 11121 Hickman Road Urbandale\, IA 50322
UID:e.1185.4700
SEQUENCE:3
DTSTAMP:20260420T225730Z
URL:http://getaquote-mobile.uniquelyurbandale.com/events/details/grain-harvest-08-06-2016-4700
END:VEVENT

END:VCALENDAR
