BEGIN:VCALENDAR
VERSION:2.0
PRODID:-//ChamberMaster//Event Calendar 2.0//EN
METHOD:PUBLISH
X-PUBLISHED-TTL:P3D
REFRESH-INTERVAL:P3D
CALSCALE:GREGORIAN
BEGIN:VEVENT
DTSTART:20160301T233000Z
DTEND:20160302T010000Z
X-MICROSOFT-CDO-ALLDAYEVENT:FALSE
SUMMARY:Goodwill of Central Iowa Fashion Show
DESCRIPTION:Twice Styled Fashion Show An evening of original student fashions repurposed from Goodwill merchandise brought to you by Goodwill of Central Iowa and DMACC Fashion Apparel Students ? DMACC students model garments they have recreated from Goodwill apparel ? Other model wear designs directly off the racks from Goodwill
X-ALT-DESC;FMTTYPE=text/html:Twice Styled Fashion Show An evening of original student fashions repurposed from Goodwill merchandise brought to you by Goodwill of Central Iowa and DMACC Fashion Apparel Students ? DMACC students model garments they have recreated from Goodwill apparel ? Other model wear designs directly off the racks from Goodwill
LOCATION:Merle Hay Mall (next to Target)
UID:e.1185.4729
SEQUENCE:3
DTSTAMP:20260420T170511Z
URL:http://getaquote-mobile.uniquelyurbandale.com/events/details/goodwill-of-central-iowa-fashion-show-03-01-2016-4729
END:VEVENT

END:VCALENDAR
