BEGIN:VCALENDAR
VERSION:2.0
PRODID:-//ChamberMaster//Event Calendar 2.0//EN
METHOD:PUBLISH
X-PUBLISHED-TTL:P3D
REFRESH-INTERVAL:P3D
CALSCALE:GREGORIAN
BEGIN:VEVENT
DTSTART:20160129T003000Z
DTEND:20160129T020000Z
X-MICROSOFT-CDO-ALLDAYEVENT:FALSE
SUMMARY:Good and Cheap
DESCRIPTION:Trying to cut down your food costs? Consider a more strategic approach to meal planning and shopping. This class will help you learn about the foods that give you the best taste and nutrition for your money. Participants will receive a cookbook of low-cost recipes\, menu plans and will sample homemade soup and bread. $15. Register with Urbandale Community Ed: http://urbandalecommunityed.com/programs/2016_Winter/Good_and_Cheap
X-ALT-DESC;FMTTYPE=text/html:Trying to cut down your food costs? Consider a more strategic approach to meal planning and shopping. This class will help you learn about the foods that give you the best taste and nutrition for your money. Participants will receive a cookbook of low-cost recipes\, menu plans and will sample homemade soup and bread. $15. Register with Urbandale Community Ed: http://urbandalecommunityed.com/programs/2016_Winter/Good_and_Cheap
LOCATION:Urbandale High School 7111 Aurora Ave Urbandale\, IA 50322
UID:e.1185.4597
SEQUENCE:3
DTSTAMP:20260420T130046Z
URL:http://getaquote-mobile.uniquelyurbandale.com/events/details/good-and-cheap-01-28-2016-4597
END:VEVENT

END:VCALENDAR
