BEGIN:VCALENDAR
VERSION:2.0
PRODID:-//ChamberMaster//Event Calendar 2.0//EN
METHOD:PUBLISH
X-PUBLISHED-TTL:P3D
REFRESH-INTERVAL:P3D
CALSCALE:GREGORIAN
BEGIN:VEVENT
DTSTART:20160304T000000Z
DTEND:20160304T013000Z
X-MICROSOFT-CDO-ALLDAYEVENT:FALSE
SUMMARY:Getting the Most from Social Security
DESCRIPTION:Know your benfits and understand your options!  Dinner will be served. Please RSVP to Mary Ann Tayloe.\n\nJoin me for this brief and informative session to learn about:\n\n	Key Social Security decisions\n	Simple steps that can help maximize your benefit\n	How to get started\n\nSpeaker: Ben Totel\, CRPC
X-ALT-DESC;FMTTYPE=text/html:Know your benfits and understand your options! &nbsp\;Dinner will be served. <strong>Please RSVP to Mary Ann Tayloe</strong>.<br />\nJoin me for this brief and informative session to learn about:\n<ul>\n	<li>Key Social Security decisions</li>\n	<li>Simple steps that can help maximize your benefit</li>\n	<li>How to get started</li>\n</ul>\nSpeaker: Ben Totel\, CRPC
LOCATION:Iowa Machine Shed Restaurant\, 11151 Hickman Rd\, Urbandale\, IA 50322
UID:e.1185.4728
SEQUENCE:3
DTSTAMP:20260420T153203Z
URL:http://getaquote-mobile.uniquelyurbandale.com/events/details/getting-the-most-from-social-security-03-03-2016-4728
END:VEVENT

END:VCALENDAR
