BEGIN:VCALENDAR
VERSION:2.0
PRODID:-//ChamberMaster//Event Calendar 2.0//EN
METHOD:PUBLISH
X-PUBLISHED-TTL:P3D
REFRESH-INTERVAL:P3D
CALSCALE:GREGORIAN
BEGIN:VEVENT
DTSTART:20141021T220000Z
DTEND:20141022T000000Z
X-MICROSOFT-CDO-ALLDAYEVENT:FALSE
SUMMARY:GenYPrix\, Presented by Shade Tree Auto
DESCRIPTION:Do you have what it takes to cross the finish line first?!  Come connect with fellow members in a unique environment while racing high-speed go-karts at MB2 Raceway.  Prizes are awarded for the top finishers in each heat.  The grand prize for the top finisher is an iPad!  Another top prize includes a 10-person party at MB2 raceway\, a value of $300!\n\n\n\nCost: $30 genYP members\, $35 non-members\n\nCost includes two races - one qualifying race and a final race.\n\nFood from Pizza Ranch\n\n\n\nSPACE IS LIMITED AND IS ANTICIPATED TO SELL OUT!
X-ALT-DESC;FMTTYPE=text/html:Do you have what it takes to cross the finish line first?! &nbsp\;Come connect with fellow members in a unique environment while racing high-speed go-karts at MB2 Raceway. &nbsp\;Prizes are awarded for the top finishers in each heat. &nbsp\;The grand prize for the top finisher is an iPad! &nbsp\;Another top prize includes a 10-person party at MB2 raceway\, a value of $300!<br />\n<br />\nCost: $30 genYP members\, $35 non-members<br />\nCost includes two races - one qualifying race and a final race.<br />\nFood from Pizza Ranch<br />\n<br />\nSPACE IS LIMITED AND IS ANTICIPATED TO SELL OUT!
LOCATION:MB2 Raceway 1350 SE Gateway Dr. Ste. 108
UID:e.1185.3934
SEQUENCE:3
DTSTAMP:20260419T152538Z
URL:http://getaquote-mobile.uniquelyurbandale.com/events/details/genyprix-presented-by-shade-tree-auto-10-21-2014-3934
END:VEVENT

END:VCALENDAR
