BEGIN:VCALENDAR
VERSION:2.0
PRODID:-//ChamberMaster//Event Calendar 2.0//EN
METHOD:PUBLISH
X-PUBLISHED-TTL:P3D
REFRESH-INTERVAL:P3D
CALSCALE:GREGORIAN
BEGIN:VEVENT
DTSTART:20151013T220000Z
DTEND:20151014T000000Z
X-MICROSOFT-CDO-ALLDAYEVENT:FALSE
SUMMARY:GenYPrix\, Presented by Shade Tree Auto
DESCRIPTION:Do you have what it takes to cross the finish line first?!  Come connect with genYP members and members of Ankeny's YP group in a unique environment while racing high-speed go-karts at MB2 Raceway.  Prizes are awarded for the top finishers in each heat.  The grand prize for the top finisher will be a big screen TV\, donated by Shade Tree Auto!!\n\n\n\nLocation: MB2 Raceway (1350 SE Gateway Dr. Ste. 108\, Grimes).  They are located 1 1/2 miles north of I-80/35\, just west of Highway 141 in Grimes.  Their front door and parking  are on the west side of the building directly behind SkyZone.\n\n\n\nCost: $30 (Cost includes two races - one qualifying race and a final race and pizza)\nIf you aren't into racing\, but still want to be a part of this event\, you are welcome to register and pay $10 (to cover cost of food) and network with everyone and cheer on the racers!\n\n\n\nTime: 5-7 pm (please arrive 15 minutes early and plan to stay the duration of the event).  You won't want to miss the grand finale that includes pitting 3 genYP Leadership Team members against 3 AYP board members for a winner take all race for pride\, glory and the genYPrix Cup!!\n\nSPACE IS LIMITED AND IS ANTICIPATED TO SELL OUT!\n\n\n\nImportant notes for racers:\n\n\n	\n	Please arrive by 4:45 pm so we can ensure that everyone has registered and will be ready to go on time. \n	\n	\n	If you have not already registered with them\, please visit the pre-registration page to enter your details and make sure you use the EVENT CODE: 55439 (If you fail to pre-register there can be delays in getting your event started on time).  Please click here to pre-register.\n	\n	\n	MB2 raceway is on a strict time schedule. If your entire party is not present at the time of your race\,MB2 cannot wait or postpone your race time. Your party will be required to race with those that are present. You will be required to pay the flat rate which includes the cost of all racers even if they did not arrive on time or chose not to race.=\n	\n	\n	Closed toed shoes are required and hair past shoulder length should be pulled back while racing.\n	\n\n\n\n\n\nThank you to our genYP Investors: Shade Tree Auto and Urbandale Hy-Vee!
X-ALT-DESC;FMTTYPE=text/html:<p><span style="font-size:14px\;"><span style="font-family:arial\;">Do you have what it takes to cross the finish line first?! &nbsp\;Come connect with genYP&nbsp\;members and members of&nbsp\;Ankeny&#39\;s YP group&nbsp\;in a unique environment while racing high-speed go-karts at MB2 Raceway. &nbsp\;Prizes are awarded for the top finishers in each heat. &nbsp\;The grand prize for the top finisher will be a big screen TV\, donated by Shade Tree Auto!!<br />\n<br />\n<strong>Location</strong>:&nbsp\;<span style="line-height: 18.9090900421143px\;">MB2 Raceway (</span><span style="line-height: 18.9090900421143px\;">1350 SE Gateway Dr. Ste. 108\, Grimes). &nbsp\;They are located 1 1/2 miles north of I-80/35\, just west of Highway 141 in Grimes. &nbsp\;Their front door and parking &nbsp\;are on the west side of the building directly behind SkyZone.</span></span></span><br />\n<br />\n<span style="font-size:14px\;"><span style="font-family:arial\;"><strong>Cost</strong>: $30 (Cost includes two races - one qualifying race and a final race and pizza)</span></span></p>\n<span style="font-size:14px\;"><span style="font-family:arial\;">If you aren&#39\;t into racing\, but still want to be a part of this event\, you are welcome to register and pay $10 (to cover cost of food) and network with everyone and cheer on the racers!<br />\n<br />\n<strong>Time</strong>: 5-7 pm (please arrive 15 minutes early and plan to stay the duration of the event). &nbsp\;You won&#39\;t want to miss the grand finale that includes&nbsp\;pitting 3 genYP&nbsp\;Leadership Team members&nbsp\;against 3 AYP board members for a winner take all race for pride\, glory and the genYPrix Cup!!</span></span>\n\n<p><span style="font-size:14px\;"><span style="font-family:arial\;">SPACE IS LIMITED AND IS ANTICIPATED TO SELL OUT!<br />\n<br />\n<strong>Important notes for racers:</strong></span></span></p>\n\n<ul>\n	<li>\n	<p><span style="font-size:14px\;"><span style="font-family:arial\;"><span style="color:black\;">Please arrive by 4:45 pm so we can ensure that everyone has registered and will be ready to go on time.&nbsp\;</span></span></span></p>\n	</li>\n	<li>\n	<p><span style="font-size:14px\;"><span style="font-family:arial\;"><span style="color:black\;">If you have not already&nbsp\;registered with them\, please&nbsp\;visit the pre-registration page to enter your details and make sure you&nbsp\;use the <strong>EVENT CODE: 55439</strong> (If you fail&nbsp\;to pre-register there can be delays in getting your event started on time). &nbsp\;Please click <a href="https://mb2desmoines.clubspeedtiming.com/sp_center/register.aspx">here</a> to pre-register.</span></span></span></p>\n	</li>\n	<li>\n	<p><span style="font-size:14px\;"><span style="font-family:arial\;"><span style="color:black\;">MB2 raceway is on a strict time schedule. If your entire party is not present at the time of your race\,MB2 cannot&nbsp\;wait or postpone your race time. Your party will be required to race with those that are present. You will be required&nbsp\;to pay the flat rate which includes the cost of all racers even if they did not arrive on time or chose not to race.=</span></span></span></p>\n	</li>\n	<li>\n	<p><span style="font-size:14px\;"><span style="font-family:arial\;">Closed toed shoes are required and hair past shoulder length should be pulled back while racing.</span></span></p>\n	</li>\n</ul>\n<br />\n<br />\n<span style="font-size:14px\;"><span style="font-family:arial\;"><strong style="font-size: 16px\; line-height: 23.2727279663086px\;">Thank you to our&nbsp\;genYP&nbsp\;Investors: Shade Tree Auto and&nbsp\;Urbandale&nbsp\;Hy-Vee!</strong></span></span>
LOCATION:MB2 Raceway 1350 SE Gateway Dr. Ste. 108
UID:e.1185.4138
SEQUENCE:3
DTSTAMP:20260420T084126Z
URL:http://getaquote-mobile.uniquelyurbandale.com/events/details/genyprix-presented-by-shade-tree-auto-10-13-2015-4138
END:VEVENT

END:VCALENDAR
