BEGIN:VCALENDAR
VERSION:2.0
PRODID:-//ChamberMaster//Event Calendar 2.0//EN
METHOD:PUBLISH
X-PUBLISHED-TTL:P3D
REFRESH-INTERVAL:P3D
CALSCALE:GREGORIAN
BEGIN:VEVENT
DTSTART:20200312T210000Z
DTEND:20200312T220000Z
X-MICROSOFT-CDO-ALLDAYEVENT:FALSE
SUMMARY:genYPM hosted by Urbandale Golf & Country Club
DESCRIPTION:In this structured networking event\, genYP members will be split into small groups and answer business-related questions to get to know each other and start building relationships.  The event will last from 4:00 to 5:00 pm and take place at different venues every month. \n\n\n\nThis event is free for genYP members to attend\, but registration is requested.   Light appetizers and beverages will be provided. \nThank you to our 2020 genYP Program Investors:
X-ALT-DESC;FMTTYPE=text/html:<span style="color: rgb(51\, 51\, 51)\; font-family: sans-serif\, Arial\, Verdana\, &quot\;Trebuchet MS&quot\;\; font-size: 13px\; background-color: rgb(255\, 255\, 255)\;">In this structured networking event\, genYP members will be split into small groups and answer business-related questions to get to know each other and start building relationships.&nbsp\; The event will last from 4:00 to 5:00 pm and take place at different venues every month.&nbsp\;</span><br />\n<br />\nThis event is free for genYP members to attend\, but registration is requested.&nbsp\;&nbsp\; Light appetizers and beverages will be provided.&nbsp\;\n<p><span style="font-size: 18px\;"><strong>Thank you to our 2020&nbsp\;genYP&nbsp\;Program Investors:</strong></span><br />\n&nbsp\;</p>\n
LOCATION:Urbandale Country Club 4000 86th Street Urbandale
UID:e.1185.10822
SEQUENCE:3
DTSTAMP:20260423T185727Z
URL:http://getaquote-mobile.uniquelyurbandale.com/events/details/genypm-hosted-by-urbandale-golf-country-club-10822
END:VEVENT

END:VCALENDAR
