BEGIN:VCALENDAR
VERSION:2.0
PRODID:-//ChamberMaster//Event Calendar 2.0//EN
METHOD:PUBLISH
X-PUBLISHED-TTL:P3D
REFRESH-INTERVAL:P3D
CALSCALE:GREGORIAN
BEGIN:VEVENT
DTSTART:20201013T210000Z
DTEND:20201013T220000Z
X-MICROSOFT-CDO-ALLDAYEVENT:FALSE
SUMMARY:genYPM\, Hosted by Sara Velander - Country Financial
DESCRIPTION:In this structured networking event\, genYP members will be split into small groups and answer business-related questions to get to know each other and start building relationships.  The event will last from 4:00 to 5:00 pm and take place at different venues every month. \n\n \nThank you to our 2020 genYP Program Investors!\n\nParty On the Lake\n\nShade Tree Auto\n\nBrokers International\n\nTwo Rivers Bank and Trust
X-ALT-DESC;FMTTYPE=text/html:In this structured networking event\, genYP members will be split into small groups and answer business-related questions to get to know each other and start building relationships.&nbsp\; The event will last from 4:00 to 5:00 pm and take place at different venues every month.&nbsp\;<br />\n<span background-color:="" font-size:="" style="color: rgb(51\, 51\, 51)\; font-family: sans-serif\, Arial\, Verdana\, " trebuchet="">&nbsp\;</span>\n<div style="text-align: center\;"><strong style="font-size: 16px\; text-align: center\;">Thank you to our 2020 genYP Program Investors!<br />\n<a href="http://businesses.uniquelyurbandale.com/list/member/party-on-the-lake-6029">Party On the Lake</a><br />\n<a href="http://businesses.uniquelyurbandale.com/list/member/shade-tree-auto-3067">Shade Tree Auto</a><br />\n<a href="http://businesses.uniquelyurbandale.com/list/member/brokers-international-4648">Brokers International</a><br />\n<a href="http://businesses.uniquelyurbandale.com/list/member/two-rivers-bank-trust-1999">Two Rivers Bank and Trust</a></strong></div>\n
LOCATION:Country Financial 650 S Prairie View Dr\, Suite 200 West Des Moines\, IA 50265
UID:e.1185.10910
SEQUENCE:3
DTSTAMP:20260424T043606Z
URL:http://getaquote-mobile.uniquelyurbandale.com/events/details/genypm-hosted-by-sara-velander-country-financial-10910
END:VEVENT

END:VCALENDAR
