BEGIN:VCALENDAR
VERSION:2.0
PRODID:-//ChamberMaster//Event Calendar 2.0//EN
METHOD:PUBLISH
X-PUBLISHED-TTL:P3D
REFRESH-INTERVAL:P3D
CALSCALE:GREGORIAN
BEGIN:VEVENT
DTSTART:20190912T213000Z
DTEND:20190912T223000Z
X-MICROSOFT-CDO-ALLDAYEVENT:FALSE
SUMMARY:genYPM hosted by Keystone Chiropractic
DESCRIPTION:In this structured networking event\, genYP members will be split into small groups and answer business related questions to get to know each other and start building relationships.  The event will last from 4:30 to 5:30 pm and take place at different venues every month. \n\n \nThis month's location: Keystone Chiropracitc (2900 University Ave West Des Moines)\nThis event is free for genYP members to attend\, but registration is requested.   Light appetizers and beverages will be provided. \n\n \nThank you to our 2019 genYP Program Investors:\n\nTwo Rivers Bank and Trust\n\nShade Tree Auto
X-ALT-DESC;FMTTYPE=text/html:In this structured networking event\, genYP members will be split into small groups and answer business related questions to get to know each other and start building relationships.&nbsp\; The event will last from 4:30 to 5:30 pm and take place at different venues every month.&nbsp\;<br />\n&nbsp\;\n<p>This month&#39\;s location: Keystone Chiropracitc (2900 University Ave West Des Moines)</p>\nThis event is free for genYP members to attend\, but registration is requested.&nbsp\;&nbsp\; Light appetizers and beverages will be provided.&nbsp\;<br />\n&nbsp\;\n<p><span style="font-size: 18px\;"><strong>Thank you to our 2019&nbsp\;genYP&nbsp\;Program Investors:</strong></span></p>\n\n<p><span style="font-size: 18px\;"><strong>Two Rivers Bank and Trust<br />\nShade Tree Auto</strong></span></p>\n\n<div>&nbsp\;</div>\n
LOCATION:Keystone Chiropractic (2900 University Ave West Des Moines)
UID:e.1185.8944
SEQUENCE:3
DTSTAMP:20260423T075206Z
URL:http://getaquote-mobile.uniquelyurbandale.com/events/details/genypm-hosted-by-keystone-chiropractic-09-12-2019-8944
END:VEVENT

END:VCALENDAR
