BEGIN:VCALENDAR
VERSION:2.0
PRODID:-//ChamberMaster//Event Calendar 2.0//EN
METHOD:PUBLISH
X-PUBLISHED-TTL:P3D
REFRESH-INTERVAL:P3D
CALSCALE:GREGORIAN
BEGIN:VEVENT
DTSTART:20181211T220000Z
DTEND:20181211T230000Z
X-MICROSOFT-CDO-ALLDAYEVENT:FALSE
SUMMARY:genYPM\, hosted by Core Physical Therapy
DESCRIPTION:NEW monthly networking event for 2018!\n\n\n\nIn this structured networking event\, genYP members will be split into small groups and answer business related questions to get to know each other and start building relationships.  The event will last from 4-5 pm and take place at different venues every month. \n\n\n\nThis month's location: Core Physical Therapy ( 2001 Westown Pkwy. Ste. 107\, WDM)\n\nThis event is free for genYP members to attend\, but registration is requested.   Light appetizers and beverages will be provided. \nThank you to our 2018 genYP Program Investors:\n\nTwo Rivers Bank and Trust and Shade Tree Auto
X-ALT-DESC;FMTTYPE=text/html:&#8203\;NEW monthly&nbsp\;networking event for 2018!<br />\n<br />\nIn this structured networking event\,&nbsp\;genYP&nbsp\;members will be split into small groups and answer business related questions to get to know each other and start building relationships.&nbsp\; The event will last from 4-5 pm and take place at different venues every month.&nbsp\;<br />\n<br />\nThis month&#39\;s location: Core Physical Therapy (&nbsp\;2001 Westown Pkwy. Ste. 107\, WDM)<br />\nThis event is free for&nbsp\;genYP&nbsp\;members to attend\, but registration is requested.&nbsp\;&nbsp\; Light appetizers and beverages will be provided.&nbsp\;\n<p><span style="font-size: 18px\;"><strong><span style="font-family: arial\;">Thank you to our 20</span>18&nbsp\;genYP&nbsp\;Program Investors:</strong></span></p>\n\n<p><span style="font-size: 18px\;"><strong>Two Rivers Bank&nbsp\;and Trust and Shade Tree Auto</strong></span></p>\n
LOCATION:Core Physical Therapy ( 2001 Westown Pkwy. Ste. 107\, WDM)
UID:e.1185.6967
SEQUENCE:3
DTSTAMP:20260422T155329Z
URL:http://getaquote-mobile.uniquelyurbandale.com/events/details/genypm-hosted-by-core-physical-therapy-6967
END:VEVENT

END:VCALENDAR
