BEGIN:VCALENDAR
VERSION:2.0
PRODID:-//ChamberMaster//Event Calendar 2.0//EN
METHOD:PUBLISH
X-PUBLISHED-TTL:P3D
REFRESH-INTERVAL:P3D
CALSCALE:GREGORIAN
BEGIN:VEVENT
DTSTART:20201020T213000Z
DTEND:20201020T223000Z
X-MICROSOFT-CDO-ALLDAYEVENT:FALSE
SUMMARY:genYP Voting Preparation with Secretary of State Paul Pate
DESCRIPTION:The Presidential Election will take place on Tuesday\, November 3\, 2020 and it's more important than ever to be educated on how and why you should vote! Join us for a virtual presentation with Secretary of State Paul Pate as he explains the processes of registering to vote\, requesting an absentee ballot\, voting amidst COVID-19\, and why your vote matters! Secretary Pate's short presentation will be followed by a Q&A session. \n\n\n\nLearn more about Secretary of State Paul Pate!
X-ALT-DESC;FMTTYPE=text/html:<span style="font-size:14px\;"><span style="font-family:arial\;">The Presidential Election will take place on Tuesday\, November 3\, 2020 and it&rsquo\;s more important than ever to be educated on how and why you should vote! Join us for a virtual presentation with Secretary of State Paul Pate as he explains the processes of registering to vote\, requesting an absentee ballot\, voting amidst COVID-19\, <strong><em>and why your vote matters</em></strong>! Secretary Pate&rsquo\;s short presentation will be followed by a Q&amp\;A session.&nbsp\;<br />\n<br />\n<a href="https://sos.iowa.gov/AboutTheSecretary.html">Learn more about Secretary of State Paul Pate!</a></span></span>
LOCATION:A Zoom Meeting link will be sent to virtual attendees in their confirmation email.
UID:e.1185.10966
SEQUENCE:3
DTSTAMP:20260424T031542Z
URL:http://getaquote-mobile.uniquelyurbandale.com/events/details/genyp-voting-preparation-with-secretary-of-state-paul-pate-10966
END:VEVENT

END:VCALENDAR
