BEGIN:VCALENDAR
VERSION:2.0
PRODID:-//ChamberMaster//Event Calendar 2.0//EN
METHOD:PUBLISH
X-PUBLISHED-TTL:P3D
REFRESH-INTERVAL:P3D
CALSCALE:GREGORIAN
BEGIN:VEVENT
DTSTART:20140514T213000Z
DTEND:20140514T233000Z
X-MICROSOFT-CDO-ALLDAYEVENT:FALSE
SUMMARY:genYP Uncorked for a Cause!
DESCRIPTION:genYP members!  Join us for this great event and help Rebuilding Together at the same time!\n\nFor the second year in a row\, genYP is partnering with Rebuilding Together to help someone in need.   Rebuilding Together is the leading volunteer organization that\, in partnership with the community\, rehabilitates the homes of low-income homeowners\, particularly the elderly\, disabled\, and families with dependent children. There is no cost to qualified homeowners for the services provided. Since 1995\, Rebuilding Together Greater Des Moines has improved 1\,300+ homes through the efforts of approximately 18\,000 volunteers.\n\n\n\nMore details on this project\, the homeowner and how to help will be given a little later.  But we know we need to raise funds in order to make this a success so that is why we are having this event now!\n\n\n\nWednesday\, May 14th\n\nUrbandale Hy-Vee Market Grille PATIO (corner of 86th Street and Douglas Ave)\n\n4:30 pm - 6:30 pm (come and go as you please)\n\n4:30-5:30 pm: Wine sampling and appetizers\n\n5:30 pm: Wine education session-learn more about wine and ask some questions\n\nFor only $20\, you receive four wine samples (two white and two red)\, appetizers and educational session!\n\nBONUS: Sushi and bottles of wine will be half price during this event!!\n\n\n\nHelp us raise money for a great cause and meet and network with other young professionals while enjoying wine and appetizers!\n\n\n\nThank you to our 2014 genYP Investors:\n\nShade Tree Auto\n\nHy-Vee Urbandale\n\nCreatively Simple Marketing
X-ALT-DESC;FMTTYPE=text/html:genYP members! &nbsp\;Join us for this great event and help Rebuilding Together at the same time!<br />\nFor the second year in a row\, genYP is partnering with Rebuilding Together to help someone in need. &nbsp\;&#8203\;Rebuilding Together is the leading volunteer organization that\, in partnership with the community\, rehabilitates the homes of low-income homeowners\, particularly the elderly\, disabled\, and families with dependent children. There is no cost to qualified homeowners for the services provided. Since 1995\, Rebuilding Together Greater Des Moines has improved 1\,300+ homes through the efforts of approximately 18\,000 volunteers.<br />\n<br />\nMore details on this project\, the homeowner and how to help will be given a little later. &nbsp\;But we know we need to raise funds in order to make this a success so that is why we are having this event now!<br />\n<br />\nWednesday\, May 14th<br />\nUrbandale Hy-Vee Market Grille PATIO (corner of 86th Street and Douglas Ave)<br />\n4:30 pm - 6:30 pm (come and go as you please)<br />\n4:30-5:30 pm: Wine sampling and appetizers<br />\n5:30 pm: Wine education session-learn more about wine and ask some questions<br />\nFor only $20\, you receive four wine samples (two white and two red)\, appetizers and educational session!<br />\nBONUS: Sushi and bottles of wine will be half price during this event!!<br />\n<br />\nHelp us raise money for a great cause and meet and network with other young professionals while enjoying wine and appetizers!<br />\n<br />\n<strong style="font-size: 14.399999618530273px\; line-height: 17.920000076293945px\;">Thank you to our 2014&nbsp\;genYP&nbsp\;Investors:<br />\nShade Tree Auto<br />\nHy-Vee&nbsp\;Urbandale<br />\nCreatively Simple Marketing</strong>
LOCATION:Urbandale Hy-Vee Market Grille PATIO (corner of 86th Street and Douglas Ave)
UID:e.1185.3908
SEQUENCE:3
DTSTAMP:20260419T164951Z
URL:http://getaquote-mobile.uniquelyurbandale.com/events/details/genyp-uncorked-for-a-cause-05-14-2014-3908
END:VEVENT

END:VCALENDAR
