BEGIN:VCALENDAR
VERSION:2.0
PRODID:-//ChamberMaster//Event Calendar 2.0//EN
METHOD:PUBLISH
X-PUBLISHED-TTL:P3D
REFRESH-INTERVAL:P3D
CALSCALE:GREGORIAN
BEGIN:VEVENT
DTSTART:20150513T213000Z
DTEND:20150513T233000Z
X-MICROSOFT-CDO-ALLDAYEVENT:FALSE
SUMMARY:genYP Uncorked for a Cause!
DESCRIPTION:genYP members!  Join us for this great event and help the Let's Read Program at the same time!  What is Let's Read?  For three years\, genYP has partnered with Urbandale Schools to help elementary students raise their reading level.  Volunteers choose their own shifts (sign up here) and let one child practice their reading skills with them.  Students are Kindergarten through third grade.  All funds raised from this event will go toward purchasing books and supplies for the participating classrooms.  \n\n\n\nWednesday\, May 13th\n\nUrbandale Hy-Vee Market Grille PATIO (corner of 86th Street and Douglas Ave)\n\n4:30 pm - 6:30 pm\n\n4:30-5:30 pm: Wine sampling and appetizers\n\n5:30 pm: Wine education session-learn more about wine and ask some questions\n\nFor only $20\, you receive four wine samples (two white and two red)\, appetizers and educational session!\n\nBONUS: Sushi and bottles of wine will be half price during this event!!\n\n\n\nPlease register to attend. \n\n\n\nThank you to our genYP Investors: Shade Tree Auto and Urbandale Hy-Vee!
X-ALT-DESC;FMTTYPE=text/html:<p>genYP members! &nbsp\;Join us for this great event and help the Let&#39\;s Read Program at the same time! &nbsp\;What is Let&#39\;s Read? &nbsp\;For three years\, genYP&nbsp\;has partnered with Urbandale&nbsp\;Schools to help elementary students raise their reading level. &nbsp\;Volunteers choose their own shifts (sign up <a href="http://genyp.volunteerlocal.com/volunteer/">here</a>) and let one child practice their reading skills with them. &nbsp\;Students are Kindergarten through third grade. &nbsp\;All funds raised from this event will go toward purchasing books and supplies for the participating classrooms. &nbsp\;<br />\n<br />\n<span style="font-family:arial\,sans-serif\;"><span style="font-size:10.0pt\;">Wednesday\, May 13th<br />\nUrbandale&nbsp\;Hy-Vee&nbsp\;Market Grille PATIO (corner of&nbsp\;86th&nbsp\;Street and Douglas Ave)<br />\n4:30 pm - 6:30 pm<br />\n4:30-5:30 pm: Wine sampling and appetizers<br />\n5:30 pm: Wine education session-learn more about wine and ask some questions<br />\nFor only $20\, you receive four wine samples (two white and two red)\, appetizers and educational session!<br />\nBONUS: Sushi and bottles of wine will be half price during this event!!</span></span><br />\n<br />\nPlease register to attend.&nbsp\;<br />\n<br />\n<strong style="font-size: 16px\; line-height: 23.2727279663086px\;">Thank you to our&nbsp\;genYP&nbsp\;Investors: Shade Tree Auto and&nbsp\;Urbandale&nbsp\;Hy-Vee!</strong></p>\n
LOCATION:Urbandale Hy-Vee Market Grille PATIO (corner of 86th Street and Douglas Ave)
UID:e.1185.4133
SEQUENCE:3
DTSTAMP:20260420T011748Z
URL:http://getaquote-mobile.uniquelyurbandale.com/events/details/genyp-uncorked-for-a-cause-05-13-2015-4133
END:VEVENT

END:VCALENDAR
