BEGIN:VCALENDAR
VERSION:2.0
PRODID:-//ChamberMaster//Event Calendar 2.0//EN
METHOD:PUBLISH
X-PUBLISHED-TTL:P3D
REFRESH-INTERVAL:P3D
CALSCALE:GREGORIAN
BEGIN:VEVENT
DTSTART:20151111T010000Z
DTEND:20151111T033000Z
X-MICROSOFT-CDO-ALLDAYEVENT:FALSE
SUMMARY:genYP Trivia\, Presented by Midland Credit Union
DESCRIPTION:genYP members! We are excited to invite you to our first annual genYP Trivia event!  All funds raised will go to our Let's Read program.  This program helps youth in Urbandale schools with literacy by providing books\, supplies and volunteers for K-3 students.\n\n\n\nGrab your friends and/or co-workers for this fun event to connect with others.  Team of 4-5 will compete against each other for great prizes! You are welcome to sign up as a team (we just ask you include the names in the Notes section when you register) or sign up as an individual.  We will gladly include you in a team. \n\n\n\nDate:Tuesday\, November 10th\, 2015\n\nLocation: Blue Moon Dueling Piano Bar (5485 Mills Civic Pkwy\, West Des Moines)\n\nTime: 7-8 pm: Networking\n\n8-9:30 pm: Trivia (prizes will immediately follow)\n\nCost: FREE for genYP members\n\n$10 for non genYP members\n\n\n\nAppetizers will be provided. \n\n\n\nWe are partnering with Blue Moon on their public trivia night\, but genYP will have the entire space upstairs to ourselves.  We will be competing in the public trivia\, as well as competing against genYP members (more prizes to win!).\n\n\n\nThank you to our Gold Sponsors: Upper Iowa University and The Barking Lot!\n\n\n\nThank you to our genYP Investors: Shade Tree Auto and Urbandale Hy-Vee!
X-ALT-DESC;FMTTYPE=text/html:genYP members! We are excited to invite you to our first annual genYP Trivia event! &nbsp\;All funds raised will go to our Let&#39\;s Read program. &nbsp\;This program helps youth in Urbandale schools with literacy by providing books\, supplies and volunteers for K-3 students.<br />\n<br />\nGrab your friends and/or co-workers for this fun event to connect with others. &nbsp\;Team of 4-5 will compete against each other for great prizes! You are welcome to sign up as a team (we just ask you include the names in the Notes section when you register) or sign up as an individual. &nbsp\;We will gladly include you in a team.&nbsp\;<br />\n<br />\nDate:Tuesday\, November 10th\, 2015<br />\nLocation: Blue Moon Dueling Piano Bar (5485 Mills Civic Pkwy\, West Des Moines)<br />\nTime: 7-8 pm: Networking<br />\n8-9:30 pm: Trivia (prizes will immediately follow)<br />\nCost: FREE for genYP members<br />\n$10 for non genYP members<br />\n<br />\nAppetizers will be provided.&nbsp\;<br />\n<br />\nWe are partnering with Blue Moon on their public trivia night\, but genYP will have the entire space upstairs to ourselves. &nbsp\;We will be competing in the public trivia\, as well as competing against genYP members (more prizes to win!).<br />\n<br />\nThank you to our Gold Sponsors: Upper Iowa University and The Barking Lot!<br />\n<br />\n<strong style="font-size: 16px\; line-height: 23.2727279663086px\;">Thank you to our&nbsp\;genYP&nbsp\;Investors: Shade Tree Auto and&nbsp\;Urbandale&nbsp\;Hy-Vee!</strong>
LOCATION:Blue Moon Dueling Piano Bar (5485 Mills Civic Pkwy\, West Des Moines)
UID:e.1185.4140
SEQUENCE:3
DTSTAMP:20260420T100932Z
URL:http://getaquote-mobile.uniquelyurbandale.com/events/details/genyp-trivia-presented-by-midland-credit-union-11-10-2015-4140
END:VEVENT

END:VCALENDAR
