BEGIN:VCALENDAR
VERSION:2.0
PRODID:-//ChamberMaster//Event Calendar 2.0//EN
METHOD:PUBLISH
X-PUBLISHED-TTL:P3D
REFRESH-INTERVAL:P3D
CALSCALE:GREGORIAN
BEGIN:VEVENT
DTSTART:20141212T213000Z
DTEND:20141212T230000Z
X-MICROSOFT-CDO-ALLDAYEVENT:FALSE
SUMMARY:genYP Speed networking\, Presented by Allegra Marketing Print Mail
DESCRIPTION:genYP members!  Join us for a speed networking event to get to know one another and start building relationships.  Registration and networking will take place from 3:30-4:00 pm and for one hour\, you will be able to mingle one-on-one until the whistle blows\, indicating the switch.  This is a quick\, easy way to get to know a lot of people in a short amount of time!  Snacks and drinks will be provided!\n\n\n\nTime: 3:30-5:00 pm\n\nSponsor/Host: NCMIC Group/Professional Solutions (14001 University Ave.\, Clive)\n\nCost: Included in genYP membership\, but please RSVP to accommodate for food and drinks.\n\n\n\nThank you to our 2014 genYP Investors:\n\nShade Tree Auto\n\nHy-Vee Urbandale
X-ALT-DESC;FMTTYPE=text/html:genYP members!&nbsp\; Join us for a speed networking event to get to know one another and start building relationships.&nbsp\; Registration and networking will take place from 3:30-4:00 pm and for one hour\, you will be able to mingle one-on-one until the whistle blows\, indicating the switch.&nbsp\; This is a quick\, easy way to get to know a lot of people in a short amount of time! &nbsp\;Snacks and drinks will be provided!<br />\n<br />\nTime: 3:30-5:00 pm<br />\nSponsor/Host: NCMIC Group/Professional Solutions (14001 University Ave.\, Clive)<br />\nCost: Included in genYP membership\, but please RSVP to accommodate for food and drinks.<br />\n<br />\n<strong style="font-size: 14.399999618530273px\; line-height: 17.920000076293945px\;">Thank you to our 2014&nbsp\;genYP&nbsp\;Investors:<br />\nShade Tree Auto<br />\nHy-Vee&nbsp\;Urbandale</strong><br />\n&nbsp\;
LOCATION:NCMIC Group/Professional Solutions (14001 University Ave.\, Clive)
UID:e.1185.3871
SEQUENCE:3
DTSTAMP:20260419T175805Z
URL:http://getaquote-mobile.uniquelyurbandale.com/events/details/genyp-speed-networking-presented-by-allegra-marketing-print-mail-12-12-2014-3871
END:VEVENT

END:VCALENDAR
