BEGIN:VCALENDAR
VERSION:2.0
PRODID:-//ChamberMaster//Event Calendar 2.0//EN
METHOD:PUBLISH
X-PUBLISHED-TTL:P3D
REFRESH-INTERVAL:P3D
CALSCALE:GREGORIAN
BEGIN:VEVENT
DTSTART:20150820T203000Z
DTEND:20150820T220000Z
X-MICROSOFT-CDO-ALLDAYEVENT:FALSE
SUMMARY:genYP Speed networking\, Presented by Allegra Marketing Print Mail
DESCRIPTION:genYP members!  Join us for a speed networking event to get to know one another and start building relationships.  \n\n\n\nWe are changing up the format from past Speed Networking events: Registration and networking will take place from 3:30-4:00 pm and for the remainder of the event\, we will ask everyone to stand in a circle and each person will have the opportunity to give a 30 second commercial.  This is a quick\, easy way to get to know everyone in the room and\, in turn\, they get to know you as well! Snacks and drinks will be provided!\n\n\n\nTime: 3:30-5:00 pm\n\nLocation:  Sam & Louie's Pizza (8561 Hickman Rd.\, Urbandale)\n\nCost: Included in genYP membership\, but please RSVP to accommodate for food and drinks.\n\n$10 for non-genYP members to attend. \n\n\n\nThank you to our genYP Investors: Shade Tree Auto and Urbandale Hy-Vee!
X-ALT-DESC;FMTTYPE=text/html:genYP members!&nbsp\; Join us for a speed networking event to get to know one another and start building relationships. &nbsp\;<br />\n<br />\nWe are changing up the format from past Speed Networking events:&nbsp\;Registration and networking will take place from 3:30-4:00&nbsp\;pm and for the remainder of the event\, we will ask everyone to stand in a circle and each person will have the opportunity to give a 30 second commercial. &nbsp\;This is a quick\, easy way to get to know everyone in the room and\, in turn\, they get to know you as well! Snacks and drinks will be provided!<br />\n<br />\nTime: 3:30-5:00 pm<br />\nLocation: &nbsp\;Sam &amp\; Louie&#39\;s Pizza (8561 Hickman Rd.\, Urbandale)<br />\nCost: Included in genYP membership\, but please RSVP to accommodate for food and drinks.<br />\n$10 for non-genYP members to attend.&nbsp\;<br />\n<br />\n<strong style="font-size: 16px\; line-height: 23.2727279663086px\;">Thank you to our&nbsp\;genYP&nbsp\;Investors: Shade Tree Auto and&nbsp\;Urbandale&nbsp\;Hy-Vee!</strong>
LOCATION:Sam & Louie's Pizza (8561 Hickman Rd.\, Urbandale)
UID:e.1185.4136
SEQUENCE:3
DTSTAMP:20260420T054052Z
URL:http://getaquote-mobile.uniquelyurbandale.com/events/details/genyp-speed-networking-presented-by-allegra-marketing-print-mail-08-20-2015-4136
END:VEVENT

END:VCALENDAR
