BEGIN:VCALENDAR
VERSION:2.0
PRODID:-//ChamberMaster//Event Calendar 2.0//EN
METHOD:PUBLISH
X-PUBLISHED-TTL:P3D
REFRESH-INTERVAL:P3D
CALSCALE:GREGORIAN
BEGIN:VEVENT
DTSTART:20150623T203000Z
DTEND:20150623T220000Z
X-MICROSOFT-CDO-ALLDAYEVENT:FALSE
SUMMARY:genYP Speed networking\, Presented by Allegra Marketing Print Mail
DESCRIPTION:genYP members!  Join us for a speed networking event to get to know one another and start building relationships.  Registration and networking will take place from 3:30-5:00 pm and for one hour\, you will be able to mingle one-on-one until the whistle blows\, indicating the switch.  This is a quick\, easy way to get to know a lot of people in a short amount of time!\n\n\n\nTime: 3:30-5:00 pm \n\nLocation: Overtime Beerhouse Restaurant & Sports Pub (4810 N.W. 86th St.\, Urbandale)\n\nCost: Included in genYP membership\, but please register to attend so we can accommodate food and beverages.\n\nFor nongenYP members\, cost is $10 to attend\n\n\n\nThank you to our genYP Investors: Shade Tree Auto and Urbandale Hy-Vee!
X-ALT-DESC;FMTTYPE=text/html:<p style="line-height: 20.7999992370605px\;">genYP&nbsp\;members!&nbsp\; Join us for a speed networking event to get to know one another and start building relationships.&nbsp\; Registration and networking will take place from 3:30-5:00 pm&nbsp\;and for one hour\, you will be able to mingle one-on-one until the whistle blows\, indicating the switch.&nbsp\; This is a quick\, easy way to get to know a lot of people in a short amount of time!<br />\n<br />\nTime: 3:30-5:00 pm&nbsp\;<br />\nLocation:&nbsp\;Overtime Beerhouse Restaurant &amp\; Sports Pub (4810 N.W. 86th St.\, Urbandale)<br />\nCost: Included in&nbsp\;genYP&nbsp\;membership\, but please register to attend so we can accommodate food and beverages.<br />\nFor nongenYP members\, cost is $10 to attend<br />\n<br />\n<strong style="font-size: 16px\; line-height: 23.2727279663086px\;">Thank you to our&nbsp\;genYP&nbsp\;Investors: Shade Tree Auto and&nbsp\;Urbandale&nbsp\;Hy-Vee!</strong></p>\n
LOCATION:Overtime Beerhouse Restaurant & Sports Pub (4810 N.W. 86th St.\, Urbandale)
UID:e.1185.4134
SEQUENCE:3
DTSTAMP:20260420T040925Z
URL:http://getaquote-mobile.uniquelyurbandale.com/events/details/genyp-speed-networking-presented-by-allegra-marketing-print-mail-06-23-2015-4134
END:VEVENT

END:VCALENDAR
