BEGIN:VCALENDAR
VERSION:2.0
PRODID:-//ChamberMaster//Event Calendar 2.0//EN
METHOD:PUBLISH
X-PUBLISHED-TTL:P3D
REFRESH-INTERVAL:P3D
CALSCALE:GREGORIAN
BEGIN:VEVENT
DTSTART:20140318T123000Z
DTEND:20140318T140000Z
X-MICROSOFT-CDO-ALLDAYEVENT:FALSE
SUMMARY:genYP Speed networking\, Presented by Allegra Marketing Print Mail
DESCRIPTION:genYP members!  Join us for a speed networking event to get to know one another and start building relationships.  Registration and networking will take place from 7:30-8:00 am.  At 8:00 am\, we will begin and for approx 45 minutes\, you will be able to mingle one-on-one until the whistle blows\, indicating the switch.  This is a quick\, easy way to get to know a lot of people in a short amount of time!\n\n\n\nTime: 7:30-9:00 am\n\nLocation: Country Inn & Suites - Clive (1350 NW 118th St\, Clive)\n\nCost: Included in genYP membership\, but please register to attend so we can accommodate food and beverages.\n\nThank you to our 2014 genYP Investors:\n\nShade Tree Auto\n\nHy-Vee Urbandale\n\nCreatively Simple Marketing
X-ALT-DESC;FMTTYPE=text/html:<p>genYP members!&nbsp\; Join us for a speed networking event to get to know one another and start building relationships.&nbsp\; Registration and networking will take place from 7:30-8:00 am. &nbsp\;At 8:00 am\, we will begin and for approx 45 minutes\, you will be able to mingle one-on-one until the whistle blows\, indicating the switch.&nbsp\; This is a quick\, easy way to get to know a lot of people in a short amount of time!<br />\n<br />\nTime: 7:30-9:00 am<br />\nLocation:&nbsp\;Country Inn &amp\; Suites - Clive (1350 NW 118th St\, Clive)<br />\nCost: Included in genYP membership\, but please register to attend so we can accommodate food and beverages.</p>\n\n<div><span style="font-size: 14px\;"><strong>Thank you to our 2014&nbsp\;genYP&nbsp\;Investors:<br />\nShade Tree Auto<br />\nHy-Vee&nbsp\;Urbandale<br />\nCreatively Simple Marketing</strong></span></div>\n\n<div>&nbsp\;</div>\n
LOCATION:Country Inn & Suites - Clive (1350 NW 118th St\, Clive)
UID:e.1185.3584
SEQUENCE:3
DTSTAMP:20260419T193157Z
URL:http://getaquote-mobile.uniquelyurbandale.com/events/details/genyp-speed-networking-presented-by-allegra-marketing-print-mail-03-18-2014-3584
END:VEVENT

END:VCALENDAR
