BEGIN:VCALENDAR
VERSION:2.0
PRODID:-//ChamberMaster//Event Calendar 2.0//EN
METHOD:PUBLISH
X-PUBLISHED-TTL:P3D
REFRESH-INTERVAL:P3D
CALSCALE:GREGORIAN
BEGIN:VEVENT
DTSTART:20151211T213000Z
DTEND:20151211T230000Z
X-MICROSOFT-CDO-ALLDAYEVENT:FALSE
SUMMARY:genYP Speed Networking Luncheon\, Presented by Allegra Marketing Print Mail
DESCRIPTION:genYP members!  Join us for a speed networking event to get to know one another!  Event will take place at from 3:30-5:00 pm at Quality Marble and Tile\, located at 3900 SE Beisser Dr in Grimes.  It's FREE to attend for genYP members and $10 for nonmembers to attend.  Light appetizers and drinks will be available. \n\n\n\nQuality Marble and Tile is collecting donations of clothing\, food and personal hygiene products to be donated to UCAN and the Urbandale Food Pantry.  If you would like to bring in a donation\, you will be eligible for prizes.  A donation is completely voluntary and not required to attend this event. \n\n\n\nThank you to our genYP Investors: Shade Tree Auto and Urbandale Hy-Vee!
X-ALT-DESC;FMTTYPE=text/html:genYP members!&nbsp\; Join us for a speed networking event&nbsp\;to get to know one another!&nbsp\; Event will take place at from 3:30-5:00&nbsp\;pm at Quality Marble and Tile\, located at 3900 SE Beisser Dr in Grimes.&nbsp\; It&#39\;s FREE to attend for genYP members and $10 for nonmembers to attend. &nbsp\;Light appetizers and drinks will be available.&nbsp\;<br />\n<br />\nQuality Marble and Tile is collecting donations of clothing\, food and personal hygiene products to be donated to UCAN and the Urbandale Food Pantry. &nbsp\;If you would like to bring in a donation\, you will be eligible for prizes. &nbsp\;A donation is completely voluntary and not required to attend this event.&nbsp\;<br />\n<br />\n<strong style="font-size: 16px\; line-height: 23.2727279663086px\;">Thank you to our&nbsp\;genYP&nbsp\;Investors: Shade Tree Auto and&nbsp\;Urbandale&nbsp\;Hy-Vee!</strong>\n\n<div class="benefit_box">&nbsp\;</div>\n
LOCATION:Quality Marble and Tile\, located at 3900 SE Beisser Dr in Grimes
UID:e.1185.4139
SEQUENCE:3
DTSTAMP:20260420T114502Z
URL:http://getaquote-mobile.uniquelyurbandale.com/events/details/genyp-speed-networking-luncheon-presented-by-allegra-marketing-print-mail-12-11-2015-4139
END:VEVENT

END:VCALENDAR
