BEGIN:VCALENDAR
VERSION:2.0
PRODID:-//ChamberMaster//Event Calendar 2.0//EN
METHOD:PUBLISH
X-PUBLISHED-TTL:P3D
REFRESH-INTERVAL:P3D
CALSCALE:GREGORIAN
BEGIN:VEVENT
DTSTART:20140617T163000Z
DTEND:20140617T180000Z
X-MICROSOFT-CDO-ALLDAYEVENT:FALSE
SUMMARY:genYP Speed Networking Luncheon\, Presented by Allegra Marketing Print Mail
DESCRIPTION:Join us for a speed networking event to get to know one another and start building relationships.  Registration\, lunch and networking will take place from 11:30-12:00 pm and for one hour\, you will be able to mingle one-on-one until the whistle blows\, indicating the switch.  This is a quick\, easy way to get to know a lot of people in a short amount of time!\n\n\n\nTime: 11:30-1:00 pm\n\nLocation: Re/Max Real Estate Group (6600 University Ave.\, DM)\n\nCost: FREE LUNCH!!  No cost to genYP members.  However\, you MUST RSVP so we can accommodate for food and drinks.  Because we are providing lunch based on the number of RSVP's\, please be courteous and let us know if you registered and can't attend.  \n\n$10/nongenYP members.\n\n\n\nWe strive to provide our events free of charge to membership.  However\, when members register and don't show up for the event\, it impacts both our sponsors and our overall budget.  Thank you for being considerate of our registration process.\n\n\n\nThank you to our 2014 genYP Investors:\n\nShade Tree Auto\n\nHy-Vee Urbandale
X-ALT-DESC;FMTTYPE=text/html:<p>Join us for a speed networking event to get to know one another and start building relationships.&nbsp\; Registration\, lunch and networking will take place from 11:30-12:00 pm and for one hour\, you will be able to mingle one-on-one until the whistle blows\, indicating the switch.&nbsp\; This is a quick\, easy way to get to know a lot of people in a short amount of time!<br />\n<br />\nTime: 11:30-1:00 pm<br />\nLocation:&nbsp\;Re/Max Real Estate Group (6600 University Ave.\, DM)<br />\nCost: FREE LUNCH!! &nbsp\;No cost to genYP members. &nbsp\;However\, you MUST RSVP so we can accommodate for food and drinks. &nbsp\;Because we are providing lunch based on the number of RSVP&#39\;s\, please be courteous and let us know if you registered and can&#39\;t attend. &nbsp\;<br />\n$10/nongenYP members.<br />\n<br />\nWe strive to provide our events free of charge to membership. &nbsp\;However\, when members register and don&#39\;t show up for the event\, it impacts both our sponsors and our overall budget. &nbsp\;Thank you for being considerate of our registration process.<br />\n<br />\n<strong style="font-size: 14.399999618530273px\; line-height: 17.920000076293945px\;">Thank you to our 2014&nbsp\;genYP&nbsp\;Investors:<br />\nShade Tree Auto<br />\nHy-Vee&nbsp\;Urbandale</strong><br />\n&nbsp\;</p>\n
LOCATION:Re/Max Real Estate Group (6600 University Ave.\, DM)
UID:e.1185.3733
SEQUENCE:3
DTSTAMP:20260419T152635Z
URL:http://getaquote-mobile.uniquelyurbandale.com/events/details/genyp-speed-networking-luncheon-presented-by-allegra-marketing-print-mail-06-17-2014-3733
END:VEVENT

END:VCALENDAR
