BEGIN:VCALENDAR
VERSION:2.0
PRODID:-//ChamberMaster//Event Calendar 2.0//EN
METHOD:PUBLISH
X-PUBLISHED-TTL:P3D
REFRESH-INTERVAL:P3D
CALSCALE:GREGORIAN
BEGIN:VEVENT
DTSTART:20150211T173000Z
DTEND:20150211T190000Z
X-MICROSOFT-CDO-ALLDAYEVENT:FALSE
SUMMARY:genYP Speed Networking Luncheon\, Presented by Allegra Marketing Print Mail
DESCRIPTION:Join us for a speed networking event to get to know one another and start building relationships.  Registration\, lunch and networking will take place from 11:30-12:00 pm then from 12-1 p.m. you will be able to mingle one-on-one until the whistle blows\, indicating the switch.  This is a quick\, easy way to get to know a lot of people in a short amount of time!\n\n\n\nTime: 11:30-1:00 pm\n\nLocation: Urbandale Chamber RODAN Board Room (2830 100th Street\, Ste 110\, Urbandale). \n\nThank you to our Co-Sponsors: Beirman Furniture and Park Place Catering!\n\nCost:  No cost to genYP members.  However\, you MUST RSVP so our sponsor can accommodate everyone with lunch.  \n\nBecause we are providing lunch based on the number of RSVP's\, please be courteous and let us know if you registered and can't attend.  \n\n\n\n$10/non-genYP members.\n\n\n\n\n\nThank you to our genYP Investors:\n\nUrbandale Hy-Vee\n\nShade Tree Auto
X-ALT-DESC;FMTTYPE=text/html:<p><span style="font-family: Arial\; font-size: 12px\; line-height: 19.200000762939453px\;">Join us for a speed networking event to get to know one another and start building relationships.&nbsp\; Registration\, lunch and networking will take place from 11:30-12:00 pm then from 12-1 p.m. you will be able to mingle one-on-one until the whistle blows\, indicating the switch.&nbsp\; This is a quick\, easy way to get to know a lot of people in a short amount of time!</span><br style="font-family: Arial\; font-size: 12px\; line-height: 19.200000762939453px\;" />\n<br style="font-family: Arial\; font-size: 12px\; line-height: 19.200000762939453px\;" />\n<span style="font-family: Arial\; font-size: 12px\; line-height: 19.200000762939453px\;">Time: 11:30-1:00 pm</span><br style="font-family: Arial\; font-size: 12px\; line-height: 19.200000762939453px\;" />\n<span style="font-family: Arial\; font-size: 12px\; line-height: 19.200000762939453px\;">Location: Urbandale Chamber RODAN Board Room (2830 100th Street\, Ste 110\, Urbandale).&nbsp\;<br />\nThank you to our Co-Sponsors: Beirman Furniture and Park Place Catering!</span><br style="font-family: Arial\; font-size: 12px\; line-height: 19.200000762939453px\;" />\n<span style="font-family: Arial\; font-size: 12px\; line-height: 19.200000762939453px\;"><strong>Cost</strong>: &nbsp\;No cost to&nbsp\;</span>genYP<span style="font-family: Arial\; font-size: 12px\; line-height: 19.200000762939453px\;">&nbsp\;members. &nbsp\;However\, you MUST RSVP so our sponsor can accommodate everyone with lunch. &nbsp\;</span><br />\n<span style="font-family: Arial\; font-size: 12px\; line-height: 19.200000762939453px\;">Because we are providing lunch based on the number of RSVP&#39\;s\, please be courteous and let us know if you registered and can&#39\;t attend. &nbsp\;</span><br />\n<br />\n<span style="font-family: Arial\; font-size: 12px\; line-height: 19.200000762939453px\;">$10/</span>non-genYP<span style="font-family: Arial\; font-size: 12px\; line-height: 19.200000762939453px\;">&nbsp\;members.</span><br style="font-family: Arial\; font-size: 12px\; line-height: 19.200000762939453px\;" />\n<br style="font-family: Arial\; font-size: 12px\; line-height: 19.200000762939453px\;" />\n<br style="font-family: Arial\; font-size: 12px\; line-height: 19.200000762939453px\;" />\n<strong style="font-family: Arial\; font-size: 14.399999618530273px\; line-height: 17.920000076293945px\;">Thank you to our genYP&nbsp\;Investors:<br />\nUrbandale Hy-Vee<br />\nShade Tree Auto</strong><br />\n&nbsp\;</p>\n
LOCATION:Urbandale Chamber RODAN Board Room (2830 100th Street\, Ste 110\, Urbandale).
UID:e.1185.4129
SEQUENCE:3
DTSTAMP:20260419T211442Z
URL:http://getaquote-mobile.uniquelyurbandale.com/events/details/genyp-speed-networking-luncheon-presented-by-allegra-marketing-print-mail-02-11-2015-4129
END:VEVENT

END:VCALENDAR
