BEGIN:VCALENDAR
VERSION:2.0
PRODID:-//ChamberMaster//Event Calendar 2.0//EN
METHOD:PUBLISH
X-PUBLISHED-TTL:P3D
REFRESH-INTERVAL:P3D
CALSCALE:GREGORIAN
BEGIN:VEVENT
DTSTART:20150326T210000Z
DTEND:20150326T230000Z
X-MICROSOFT-CDO-ALLDAYEVENT:FALSE
SUMMARY:genYP Social-Kickin' it Old School!
DESCRIPTION:genYP members!  Join us for this fun\, 'old school' gathering!\n\nTime: 4-6 pm (come and go as you please)\n\nLocation: Mustang Grill (213 Southeast Main Street\, Grimes)\n\n\n\nMustang Grill is offering drink specials for the social and we invite you to step next door to Old School Arcade & Pinball at 5 pm for their grand opening ribbon cutting.  Old School Arcade & Pinball will be offering free pinball for the social/ribbon cutting!  Try your luck at their pinball machines that should bring back some great memories for most of you!\n\n\n\nPlease register to attend.  Hope to see you there!\nThank you to our genYP Investors: Shade Tree Auto and Urbandale Hy-Vee!
X-ALT-DESC;FMTTYPE=text/html:genYP&nbsp\;members!&nbsp\; Join us for this fun\, &#39\;old school&#39\; gathering!<br />\nTime: 4-6 pm (come and go as you please)<br />\nLocation: Mustang Grill (213 Southeast Main Street\, Grimes)<br />\n<br />\nMustang Grill is offering drink specials for the social and we invite you to step next door to Old School Arcade &amp\; Pinball at 5 pm for their grand opening ribbon cutting. &nbsp\;Old School Arcade &amp\; Pinball will be offering free pinball for the social/ribbon cutting! &nbsp\;Try your luck at their pinball machines that should bring back some great memories for most of you!<br />\n<br />\nPlease register to attend. &nbsp\;Hope to see you there!\n<div><strong style="font-size: 16px\; line-height: 23.2727279663086px\;">Thank you to our&nbsp\;genYP&nbsp\;Investors: Shade Tree Auto and Urbandale Hy-Vee!</strong></div>\n
LOCATION:Mustang Grill (213 Southeast Main Street\, Grimes)
UID:e.1185.4131
SEQUENCE:3
DTSTAMP:20260419T222315Z
URL:http://getaquote-mobile.uniquelyurbandale.com/events/details/genyp-social-kickin-it-old-school-03-26-2015-4131
END:VEVENT

END:VCALENDAR
