BEGIN:VCALENDAR
VERSION:2.0
PRODID:-//ChamberMaster//Event Calendar 2.0//EN
METHOD:PUBLISH
X-PUBLISHED-TTL:P3D
REFRESH-INTERVAL:P3D
CALSCALE:GREGORIAN
BEGIN:VEVENT
DTSTART:20150924T213000Z
DTEND:20150924T230000Z
X-MICROSOFT-CDO-ALLDAYEVENT:FALSE
SUMMARY:genYP Social for Prospective 2016 Leadership Team
DESCRIPTION:The genYP Leadership Team is currently accepting nominations for the 2016 Leadership Team.  Nominations are due September 30th to the Urbandale Chamber or emailed to Jeana Schultz at jschultz@urbandalechamber.com\n\n\n\nThis social is for anyone interested in learning more about roles and responsibilities.  Come and go as you please\, but if you are thinking about or have already nominated yourself\, be sure to find time to stop by and visit with some of the current leadership.  Light appetizers will be provided.\n\n\n\nThursday\, Sept. 24th\n\n4:30-6:00 pm\n\nMurphy's Bar and Grill on 100th Street
X-ALT-DESC;FMTTYPE=text/html:The genYP Leadership Team is currently accepting nominations for the 2016 Leadership Team. &nbsp\;Nominations are due September 30th to the Urbandale Chamber or emailed to Jeana Schultz at jschultz@urbandalechamber.com<br />\n<br />\nThis social is for anyone interested in learning more about roles and responsibilities. &nbsp\;Come and go as you please\, but if you are thinking about or have already nominated yourself\, be sure to find time to stop by and visit with some of the current leadership. &nbsp\;Light appetizers will be provided.<br />\n<br />\nThursday\, Sept. 24th<br />\n4:30-6:00 pm<br />\nMurphy&#39\;s Bar and Grill on 100th Street
LOCATION:
UID:e.1185.4250
SEQUENCE:3
DTSTAMP:20260420T070142Z
URL:http://getaquote-mobile.uniquelyurbandale.com/events/details/genyp-social-for-prospective-2016-leadership-team-09-24-2015-4250
END:VEVENT

END:VCALENDAR
