BEGIN:VCALENDAR
VERSION:2.0
PRODID:-//ChamberMaster//Event Calendar 2.0//EN
METHOD:PUBLISH
X-PUBLISHED-TTL:P3D
REFRESH-INTERVAL:P3D
CALSCALE:GREGORIAN
BEGIN:VEVENT
DTSTART:20201104T230000Z
DTEND:20201105T003000Z
X-MICROSOFT-CDO-ALLDAYEVENT:FALSE
SUMMARY:genYP Social at the Range Grill + Golf
DESCRIPTION:Expand your network and catch up with other genYP members by attending a social at The Range located at 11865 Hickman Rd.\, Urbandale.  The event includes networking time\, happy hour prices\, and golf simulator time.  There is no cost to attend\, feel free to bring your own clubs if you would like to golf. The event includes networking time and golf simulator time.  There is no cost to attend.
X-ALT-DESC;FMTTYPE=text/html:<span style="font-size:14px\;"><span style="font-family:arial\;">Expand your network and catch up with other genYP members by attending a social at The Range located at 11865 Hickman Rd.\, Urbandale.&nbsp\; The event includes networking time\, happy hour prices\, and golf simulator time.&nbsp\; There is no cost to attend\, feel free to bring your own clubs if you would like to golf.&nbsp\;</span></span><span style="font-size:14px\;"><span style="font-family:arial\;">The event includes networking time and golf simulator time.&nbsp\; There is no cost to attend.&nbsp\;&nbsp\;</span></span>
LOCATION:Range Restaurant + Cocktail Bar 11865 Hickman Rd Urbandale
UID:e.1185.10979
SEQUENCE:3
DTSTAMP:20260424T043604Z
URL:http://getaquote-mobile.uniquelyurbandale.com/events/details/genyp-social-at-the-range-grill-golf-10979
END:VEVENT

END:VCALENDAR
