BEGIN:VCALENDAR
VERSION:2.0
PRODID:-//ChamberMaster//Event Calendar 2.0//EN
METHOD:PUBLISH
X-PUBLISHED-TTL:P3D
REFRESH-INTERVAL:P3D
CALSCALE:GREGORIAN
BEGIN:VEVENT
DTSTART:20140228T230000Z
DTEND:20140301T010000Z
X-MICROSOFT-CDO-ALLDAYEVENT:FALSE
SUMMARY:genYP Social at The Chicken Coop Sports Bar
DESCRIPTION:Stop by after a long work week and chat with other genYP members!  No agenda\, come and go as you please.  Hope you can make it!\n\n\n\nDate: Friday\, February 28th\n\nTime: 5-7 pm\n\nLocation: The Chicken Coop Sports Bar (12725 Meredith Drive\, Urbandale)\n\nRegistration: None
X-ALT-DESC;FMTTYPE=text/html:Stop by after a long work week and chat with other genYP&nbsp\;members! &nbsp\;No agenda\, come and go as you please. &nbsp\;Hope you can make it!<br />\n<br />\nDate: Friday\, February 28th<br />\nTime: 5-7 pm<br />\nLocation: The Chicken Coop Sports Bar (12725 Meredith Drive\, Urbandale)<br />\nRegistration: None
LOCATION:The Chicken Coop Sports Bar (12725 Meredith Drive\, Urbandale)
UID:e.1185.3582
SEQUENCE:3
DTSTAMP:20260419T222603Z
URL:http://getaquote-mobile.uniquelyurbandale.com/events/details/genyp-social-at-the-chicken-coop-sports-bar-02-28-2014-3582
END:VEVENT

END:VCALENDAR
