BEGIN:VCALENDAR
VERSION:2.0
PRODID:-//ChamberMaster//Event Calendar 2.0//EN
METHOD:PUBLISH
X-PUBLISHED-TTL:P3D
REFRESH-INTERVAL:P3D
CALSCALE:GREGORIAN
BEGIN:VEVENT
DTSTART:20210623T123000Z
DTEND:20210623T140000Z
X-MICROSOFT-CDO-ALLDAYEVENT:FALSE
SUMMARY:genYP Social at ProteinHouse
DESCRIPTION:Expand your network and catch up with other genYP members by grabbing coffee or protein shake at ProteinHouse! Feel free to stop by when you can\, grab a cup of coffee\, breakfast and get to know your fellow genYP members.
X-ALT-DESC;FMTTYPE=text/html:<span style="font-size:14px\;"><span style="font-family:arial\;">Expand your network and catch up with other genYP members by grabbing coffee or protein shake at ProteinHouse! Feel free to stop by when you can\, grab a cup of coffee\, breakfast and get to know your fellow genYP members.&nbsp\;</span></span>
LOCATION:ProteinHouse 11801 Hickman Rd. Ste. 300 (Located behind Lifetime fitness and next to Royal Flooring)
UID:e.1185.11289
SEQUENCE:3
DTSTAMP:20260424T142143Z
URL:http://getaquote-mobile.uniquelyurbandale.com/events/details/genyp-social-at-proteinhouse-11289
END:VEVENT

END:VCALENDAR
