BEGIN:VCALENDAR
VERSION:2.0
PRODID:-//ChamberMaster//Event Calendar 2.0//EN
METHOD:PUBLISH
X-PUBLISHED-TTL:P3D
REFRESH-INTERVAL:P3D
CALSCALE:GREGORIAN
BEGIN:VEVENT
DTSTART:20150416T220000Z
DTEND:20150417T000000Z
X-MICROSOFT-CDO-ALLDAYEVENT:FALSE
SUMMARY:genYP Social at Overtime Beerhouse Restaurant & Sports Pub
DESCRIPTION:genYP members!  Join us for an after work social event from 5-7 pm.  \n\n\n\nTime: 5-7 pm (come and go as you please)\n\nLocation: Overtime Beerhouse Restaurant & Sports Pub (4810 N.W. 86th St.\, Urbandale)\n\n\n\nThank you to our genYP Investors: Shade Tree Auto and Urbandale Hy-Vee!
X-ALT-DESC;FMTTYPE=text/html:genYP&nbsp\;members!&nbsp\; Join us for an after work social event from 5-7 pm. &nbsp\;<br />\n<br />\nTime: 5-7 pm (come and go as you please)<br />\nLocation:&nbsp\;<span style="line-height: 18.9090900421143px\;">Overtime Beerhouse Restaurant &amp\; Sports Pub (</span><span style="line-height: 18.9090900421143px\;">4810 N.W.&nbsp\;</span>86th<span style="line-height: 18.9090900421143px\;">&nbsp\;St.\,&nbsp\;</span>Urbandale<span style="line-height: 18.9090900421143px\;">)</span><br />\n<br />\n<strong style="font-size: 16px\; line-height: 23.2727279663086px\;">Thank you to our&nbsp\;genYP&nbsp\;Investors: Shade Tree Auto and&nbsp\;Urbandale&nbsp\;Hy-Vee!</strong>
LOCATION:Overtime Beerhouse Restaurant & Sports Pub (4810 N.W. 86th St.\, Urbandale)
UID:e.1185.4132
SEQUENCE:3
DTSTAMP:20260420T000351Z
URL:http://getaquote-mobile.uniquelyurbandale.com/events/details/genyp-social-at-overtime-beerhouse-restaurant-sports-pub-04-16-2015-4132
END:VEVENT

END:VCALENDAR
