BEGIN:VCALENDAR
VERSION:2.0
PRODID:-//ChamberMaster//Event Calendar 2.0//EN
METHOD:PUBLISH
X-PUBLISHED-TTL:P3D
REFRESH-INTERVAL:P3D
CALSCALE:GREGORIAN
BEGIN:VEVENT
DTSTART:20210415T213000Z
DTEND:20210415T230000Z
X-MICROSOFT-CDO-ALLDAYEVENT:FALSE
SUMMARY:genYP Social and Wine Tasting at WineStyles Johnston
DESCRIPTION:Expand your network and catch up with other genYP members by attending a social and wine tasting at WineStyles Johnston! Participants will receive a tasting sample kit featuring a one-ounce pour of six wines and will experience a guided tasting by Allan Graham with WineStyles Johnston. Join us to get to know other genYP members in an informal setting!
X-ALT-DESC;FMTTYPE=text/html:<span style="font-size:14px\;"><span style="font-family:arial\;">Expand your network and catch up with other genYP members by attending a social and wine tasting at WineStyles Johnston! Participants will receive a tasting sample kit featuring a one-ounce pour of six wines and will experience a guided tasting by Allan Graham with WineStyles Johnston. Join us to get to know other genYP members in an informal setting!&nbsp\;</span></span>
LOCATION:WineStyles Johnston 8460 Birchwood Ct\, Suite 500 Johnston\, IA Attendees can attend in-person or virtually on Zoom. Virtual attendees will be responsible for picking up their tasting kit on Tuesday\, April 13 at the Urbandale Chamber office.
UID:e.1185.11263
SEQUENCE:3
DTSTAMP:20260424T111223Z
URL:http://getaquote-mobile.uniquelyurbandale.com/events/details/genyp-social-and-wine-tasting-at-winestyles-johnston-11263
END:VEVENT

END:VCALENDAR
