BEGIN:VCALENDAR
VERSION:2.0
PRODID:-//ChamberMaster//Event Calendar 2.0//EN
METHOD:PUBLISH
X-PUBLISHED-TTL:P3D
REFRESH-INTERVAL:P3D
CALSCALE:GREGORIAN
BEGIN:VEVENT
DTSTART:20141010T220000Z
DTEND:20141011T000000Z
X-MICROSOFT-CDO-ALLDAYEVENT:FALSE
SUMMARY:genYP Social
DESCRIPTION:Stop by after a long work week and chat with other genYP members!  No agenda\, come and go as you please.  Hope you can make it!\n\n\n\nF&O's is offering 75 cent wings $2 off all other appetizers $3 well drinks 3.50 big beers and 2.50 pints.\n\n\n\n\n\nDate: Friday\, October 10th\n\nTime: 5-7 pm\n\nLocation: Felix & Ocars located next to Merle Hay Mall 4050 Merle Hay Road\n\nRegistration: None\n\n\n\nThank you to our 2014 genYP Investors:\n\nShade Tree Auto\n\nHy-Vee Urbandale
X-ALT-DESC;FMTTYPE=text/html:Stop by after a long work week and chat with other genYP&nbsp\;members! &nbsp\;No agenda\, come and go as you please. &nbsp\;Hope you can make it!<br />\n<br />\nF&amp\;O&#39\;s is offering&nbsp\;75 cent wings $2 off all other appetizers $3 well drinks 3.50 big beers and 2.50 pints.<br />\n<br />\n<br />\nDate: Friday\, October 10th<br />\nTime: 5-7 pm<br />\nLocation: Felix&nbsp\;&amp\; Ocars located next to Merle Hay Mall&nbsp\;4050 Merle Hay Road<br />\nRegistration: None<br />\n<br />\n<strong style="font-size: 14.399999618530273px\; line-height: 17.920000076293945px\;">Thank you to our 2014&nbsp\;genYP&nbsp\;Investors:<br />\nShade Tree Auto<br />\nHy-Vee&nbsp\;Urbandale</strong><br />\n&nbsp\;
LOCATION:Felix & Oscars\, 4050 Merle Hay Road\, Des Moines (next to Merle Hay Mall)
UID:e.1185.3870
SEQUENCE:3
DTSTAMP:20260419T152629Z
URL:http://getaquote-mobile.uniquelyurbandale.com/events/details/genyp-social-10-10-2014-3870
END:VEVENT

END:VCALENDAR
