BEGIN:VCALENDAR
VERSION:2.0
PRODID:-//ChamberMaster//Event Calendar 2.0//EN
METHOD:PUBLISH
X-PUBLISHED-TTL:P3D
REFRESH-INTERVAL:P3D
CALSCALE:GREGORIAN
BEGIN:VEVENT
DTSTART:20140401T220000Z
DTEND:20140402T000000Z
X-MICROSOFT-CDO-ALLDAYEVENT:FALSE
SUMMARY:genYP Social
DESCRIPTION:APRIL FOOLS!  Stop by after a long work week and chat with other genYP members!  No agenda\, come and go as you please.  Hope you can make it!\n\n\n\nDate: Tuesday\, April 1\n\nTime: 5-7 pm\n\nLocation: OverTime - Neighborhood Hub 4 Sports & Grub (4810 N.W. 86th St.\, Urbandale)\n\nRegistration: We do ask you register so we can be sure to accommodate everyone\n\n\n\nThank you to our 2014 genYP Investors:\n\nShade Tree Auto\n\nHy-Vee Urbandale\n\nCreatively Simple Marketing
X-ALT-DESC;FMTTYPE=text/html:APRIL FOOLS! &nbsp\;Stop by after a long work week and chat with other genYP&nbsp\;members! &nbsp\;No agenda\, come and go as you please. &nbsp\;Hope you can make it!<br />\n<br />\nDate: Tuesday\, April 1<br />\nTime: 5-7 pm<br />\nLocation: OverTime - Neighborhood Hub 4 Sports &amp\; Grub (4810 N.W. 86th St.\, Urbandale)<br />\nRegistration: We do ask you register so we can be sure to accommodate everyone<br />\n<br />\n<strong style="font-size: 14.399999618530273px\; line-height: 17.920000076293945px\;">Thank you to our 2014&nbsp\;genYP&nbsp\;Investors:<br />\nShade Tree Auto<br />\nHy-Vee&nbsp\;Urbandale<br />\nCreatively Simple Marketing</strong>
LOCATION:OverTime - Neighborhood Hub 4 Sports & Grub (4810 N.W. 86th St.\, Urbandale)
UID:e.1185.3705
SEQUENCE:3
DTSTAMP:20260419T175650Z
URL:http://getaquote-mobile.uniquelyurbandale.com/events/details/genyp-social-04-01-2014-3705
END:VEVENT

END:VCALENDAR
