BEGIN:VCALENDAR
VERSION:2.0
PRODID:-//ChamberMaster//Event Calendar 2.0//EN
METHOD:PUBLISH
X-PUBLISHED-TTL:P3D
REFRESH-INTERVAL:P3D
CALSCALE:GREGORIAN
BEGIN:VEVENT
DTSTART:20150507T150000Z
DTEND:20150507T190000Z
X-MICROSOFT-CDO-ALLDAYEVENT:FALSE
SUMMARY:genYP Picture Day!
DESCRIPTION:Need a professional head and shoulder business photo?  Schedule a time between 10 a.m. - 2 p.m. on Thursday\, May 7th with professional photographer\, Andrew Clark with Spoke Communications.  The cost is only $15 for genYP members or $20 for non-members payable directly to Spoke.  After the photo shoot\, you will receive a high res photo via email for your own use.  \n\n\n\nThank you to our genYP Investors: Shade Tree Auto and Urbandale Hy-Vee!
X-ALT-DESC;FMTTYPE=text/html:Need a professional head and shoulder business photo? &nbsp\;Schedule a time between 10 a.m. - 2 p.m. on Thursday\, May 7th with professional photographer\, Andrew Clark with Spoke Communications. &nbsp\;The cost is only $15 for genYP members or $20 for non-members payable directly to Spoke. &nbsp\;After the photo shoot\, you will receive a high res photo via email for your own use. &nbsp\;<br />\n<br />\n<strong style="font-size: 16px\; line-height: 23.2727279663086px\;">Thank you to our&nbsp\;genYP&nbsp\;Investors: Shade Tree Auto and&nbsp\;Urbandale&nbsp\;Hy-Vee!</strong>
LOCATION:RODAN Board Room in the Urbandale Chamber office\, located at 2830 100th St.\, Ste. 110\, Urbandale\, IA 50322
UID:e.1185.4212
SEQUENCE:3
DTSTAMP:20260420T024337Z
URL:http://getaquote-mobile.uniquelyurbandale.com/events/details/genyp-picture-day-05-07-2015-4212
END:VEVENT

END:VCALENDAR
