BEGIN:VCALENDAR
VERSION:2.0
PRODID:-//ChamberMaster//Event Calendar 2.0//EN
METHOD:PUBLISH
X-PUBLISHED-TTL:P3D
REFRESH-INTERVAL:P3D
CALSCALE:GREGORIAN
BEGIN:VEVENT
DTSTART:20150122T140000Z
DTEND:20150122T150000Z
X-MICROSOFT-CDO-ALLDAYEVENT:FALSE
SUMMARY:genYP-Morning with the Mayor\, Presented by CenturyLink
DESCRIPTION:genYP members!  Please join us for a special event with Urbandale Mayor Robert Andeweg and Urbandale School Board Member Adam Obrecht discussing how to get involved in Urbandale as well as updates on what is happening in the City.  This will be held at the Urbandale Chamber of Commerce RODAN Board Room (2830 100th St.\, Ste. 110\, Urbandale).\n\n\n\nTime: 8-9 am\n\nCost: Included in your membership\, but please RSVP to accommodate for a light breakfast and beverages\n\n$10/non-genYP members\n\n \nThank you to our  genYP Investors:\n\nUrbandale Hy-Vee\n\nShade Tree Auto
X-ALT-DESC;FMTTYPE=text/html:genYP members!&nbsp\; Please join us for a special event with Urbandale Mayor Robert Andeweg and Urbandale School Board Member Adam Obrecht&nbsp\;discussing how to get involved in Urbandale as well as updates on what is happening in the City. &nbsp\;This will be&nbsp\;held at the Urbandale Chamber of Commerce RODAN Board Room (2830 100th St.\, Ste. 110\,&nbsp\;Urbandale).<br />\n<br />\nTime: 8-9 am<br />\nCost: Included in your membership\, but please RSVP to accommodate for a light breakfast and beverages<br />\n$10/non-genYP members<br />\n&nbsp\;\n<div><span style="font-size: 14px\;"><strong>Thank you to our &nbsp\;genYP&nbsp\;Investors:<br />\nUrbandale Hy-Vee<br />\nShade Tree Auto</strong></span><br />\n&nbsp\;</div>\n\n<div>&nbsp\;</div>\n
LOCATION:Urbandale Chamber of Commerce RODAN Board Room (2830 100th St.\, Ste. 110\, Urbandale).
UID:e.1185.4130
SEQUENCE:3
DTSTAMP:20260419T193157Z
URL:http://getaquote-mobile.uniquelyurbandale.com/events/details/genyp-morning-with-the-mayor-presented-by-centurylink-01-22-2015-4130
END:VEVENT

END:VCALENDAR
