BEGIN:VCALENDAR
VERSION:2.0
PRODID:-//ChamberMaster//Event Calendar 2.0//EN
METHOD:PUBLISH
X-PUBLISHED-TTL:P3D
REFRESH-INTERVAL:P3D
CALSCALE:GREGORIAN
BEGIN:VEVENT
DTSTART:20211216T143000Z
DTEND:20211216T153000Z
X-MICROSOFT-CDO-ALLDAYEVENT:FALSE
SUMMARY:genYP Marketing Committee Meeting
DESCRIPTION:This is the monthly meeting for those on the Communications/Marketing Committee for genYP.  This committee is responsible for managing the social media outlets\, monthly newsletter\, and marketing materials. \n\n\n\nIf you are interested in learning more\, please feel free to contact our co-chairs below or stop by one of our meetings. \nBrenna Strawhacker    bstrawhacker@gsiowa.org\n\n\n\nBree Hundwardsen    bree@webspecdesign.com\n\n\n\nExpectations:\n\n-Regular attendance of Events for taking photos for content\n\n-Attendance to monthly meetings (We will be planning and scheduling content for the next month)\n\n-Helping create event postings and content\n\n-Bringing new ideas for marketing possibilities
X-ALT-DESC;FMTTYPE=text/html:This is the monthly meeting for those on the Communications/Marketing Committee for genYP.&nbsp\; This committee is responsible for managing the social media outlets\, monthly newsletter\, and marketing materials.&nbsp\;<br />\n<br />\nIf you are interested in learning more\, please feel free to contact our co-chairs below or stop by one of our meetings.&nbsp\;\n<p>Brenna Strawhacker&nbsp\;&nbsp\;&nbsp\;&nbsp\;bstrawhacker@gsiowa.org<br />\n<br />\nBree Hundwardsen&nbsp\;&nbsp\;&nbsp\;&nbsp\;bree@webspecdesign.com<br />\n<br />\nExpectations:<br />\n-Regular attendance of Events for taking photos for content<br />\n-Attendance to monthly meetings (We will be planning and scheduling content for the next month)<br />\n-Helping create event postings and content<br />\n-Bringing new ideas for marketing possibilities<br />\n&nbsp\;</p>\n
LOCATION:Urbandale Chamber Office
UID:e.1185.11233
SEQUENCE:3
DTSTAMP:20260424T232054Z
URL:http://getaquote-mobile.uniquelyurbandale.com/events/details/genyp-marketing-committee-meeting-11233
END:VEVENT

END:VCALENDAR
